{ "currentVersion": 10.81, "cimVersion": "2.6.0", "serviceDescription": "

La carta geologica della Regione Piemonte (Italia) è una rappresentazione grafica della geologia della regione basata sul contenuto di un'ampia banca dati che può essere interrogata attraverso la carta interattiva multiscala (GeoPiemonte Map) resa disponibile mediante un'applicazione WebGIS. I dati geologici rappresentati nella carta derivano dalla revisione delle carte geologiche e della letteratura esistente integrata con dati originali non pubblicati. La revisione e l'armonizzazione dei dati esistenti e nuovi è stata basata su criteri generali (litostratigrafici e litotettonici) utilizzati per la classificazione delle unità geologiche e della loro rappresentazione sulla carta. L¿applicazione di tali criteri fornisce una suddivisione gerarchica delle unità geologiche del Piemonte.Tali unità sono state descritte utilizzando vocabolari standard (IUGS CGI Standard Vocabulary per le Geoscienze). La carta fornisce informazioni riguardo a: unità litologiche, domini geotettonici, composizione, struttura ed età delle unità litologiche. Inoltre è fornita una descrizione litologica sintetica ad uso tecnico conforme allo standard SimpleLithology.<\/span><\/p>
<\/span><\/p>
Per la descrizione completa si rimanda alla <\/span>scheda metadati<\/a><\/p>
<\/span><\/p><\/div><\/div><\/div>", "mapName": "Geo_Piemonte_250k", "description": "

La carta geologica della Regione Piemonte (Italia) è una rappresentazione grafica della geologia della regione basata sul contenuto di un'ampia banca dati che può essere interrogata attraverso la carta interattiva multiscala (GeoPiemonte Map) resa disponibile mediante un'applicazione WebGIS. I dati geologici rappresentati nella carta derivano dalla revisione delle carte geologiche e della letteratura esistente integrata con dati originali non pubblicati. La revisione e l'armonizzazione dei dati esistenti e nuovi è stata basata su criteri generali (litostratigrafici e litotettonici) utilizzati per la classificazione delle unità geologiche e della loro rappresentazione sulla carta. L¿applicazione di tali criteri fornisce una suddivisione gerarchica delle unità geologiche del Piemonte.Tali unità sono state descritte utilizzando vocabolari standard (IUGS CGI Standard Vocabulary per le Geoscienze). La carta fornisce informazioni riguardo a: unità litologiche, domini geotettonici, composizione, struttura ed età delle unità litologiche. Inoltre è fornita una descrizione litologica sintetica ad uso tecnico conforme allo standard SimpleLithology.<\/SPAN><\/P>
<\/P>
Per la descrizione completa si rimanda alla <\/SPAN>scheda metadati<\/SPAN><\/A><\/P><\/DIV>", "copyrightText": "Arpa Piemonte, CNR IGG", "supportsDynamicLayers": true, "layers": [ { "id": 0, "name": "Isobate base Pliocene", "parentLayerId": -1, "defaultVisibility": true, "subLayerIds": null, "minScale": 0, "maxScale": 0, "type": "Feature Layer", "geometryType": "esriGeometryPolyline", "supportsDynamicLegends": true }, { "id": 1, "name": "Conoidi", "parentLayerId": -1, "defaultVisibility": true, "subLayerIds": null, "minScale": 0, "maxScale": 0, "type": "Feature Layer", "geometryType": "esriGeometryPolyline", "supportsDynamicLegends": true }, { "id": 2, "name": "Anticlinali e sinclinali del sottosuolo", "parentLayerId": -1, "defaultVisibility": true, "subLayerIds": null, "minScale": 1500000, "maxScale": 0, "type": "Feature Layer", "geometryType": "esriGeometryPolyline", "supportsDynamicLegends": true }, { "id": 3, "name": "Faglie e sovrascorrimenti in sottosuolo", "parentLayerId": -1, "defaultVisibility": true, "subLayerIds": null, "minScale": 1500000, "maxScale": 0, "type": "Feature Layer", "geometryType": "esriGeometryPolyline", "supportsDynamicLegends": true }, { "id": 4, "name": "Contatti tettonici e faglie", "parentLayerId": -1, "defaultVisibility": true, "subLayerIds": null, "minScale": 0, "maxScale": 0, "type": "Feature Layer", "geometryType": "esriGeometryPolyline", "supportsDynamicLegends": true }, { "id": 5, "name": "Contatti stratigrafici", "parentLayerId": -1, "defaultVisibility": true, "subLayerIds": null, "minScale": 0, "maxScale": 0, "type": "Feature Layer", "geometryType": "esriGeometryPolyline", "supportsDynamicLegends": true }, { "id": 6, "name": "Quaternario", "parentLayerId": -1, "defaultVisibility": true, "subLayerIds": null, "minScale": 0, "maxScale": 0, "type": "Feature Layer", "geometryType": "esriGeometryPolygon", "supportsDynamicLegends": true }, { "id": 7, "name": "Substrato", "parentLayerId": -1, "defaultVisibility": true, "subLayerIds": null, "minScale": 0, "maxScale": 0, "type": "Feature Layer", "geometryType": "esriGeometryPolygon", "supportsDynamicLegends": true } ], "tables": [], "spatialReference": { "wkid": 102100, "latestWkid": 3857, "xyTolerance": 0.001, "zTolerance": 0.001, "mTolerance": 0.001, "falseX": -20037700, "falseY": -30241100, "xyUnits": 10000, "falseZ": -100000, "zUnits": 10000, "falseM": -100000, "mUnits": 10000 }, "singleFusedMapCache": true, "tileInfo": { "rows": 256, "cols": 256, "dpi": 96, "format": "PNG", "compressionQuality": 0, "origin": { "x": -2.0037508342787E7, "y": 2.0037508342787E7 }, "spatialReference": { "wkid": 102100, "latestWkid": 3857, "xyTolerance": 0.001, "zTolerance": 0.001, "mTolerance": 0.001, "falseX": -20037700, "falseY": -30241100, "xyUnits": 10000, "falseZ": -100000, "zUnits": 10000, "falseM": -100000, "mUnits": 10000 }, "lods": [ { "level": 0, "resolution": 156543.03392800014, "scale": 5.91657527591555E8 }, { "level": 1, "resolution": 78271.51696399994, "scale": 2.95828763795777E8 }, { "level": 2, "resolution": 39135.75848200009, "scale": 1.47914381897889E8 }, { "level": 3, "resolution": 19567.87924099992, "scale": 7.3957190948944E7 }, { "level": 4, "resolution": 9783.93962049996, "scale": 3.6978595474472E7 }, { "level": 5, "resolution": 4891.96981024998, "scale": 1.8489297737236E7 }, { "level": 6, "resolution": 2445.98490512499, "scale": 9244648.868618 }, { "level": 7, "resolution": 1222.992452562495, "scale": 4622324.434309 }, { "level": 8, "resolution": 611.4962262813797, "scale": 2311162.217155 }, { "level": 9, "resolution": 305.74811314055756, "scale": 1155581.108577 }, { "level": 10, "resolution": 152.87405657041106, "scale": 577790.554289 }, { "level": 11, "resolution": 76.43702828507324, "scale": 288895.277144 }, { "level": 12, "resolution": 38.21851414253662, "scale": 144447.638572 }, { "level": 13, "resolution": 19.10925707126831, "scale": 72223.819286 }, { "level": 14, "resolution": 9.554628535634155, "scale": 36111.909643 }, { "level": 15, "resolution": 4.77731426794937, "scale": 18055.954822 }, { "level": 16, "resolution": 2.388657133974685, "scale": 9027.977411 }, { "level": 17, "resolution": 1.1943285668550503, "scale": 4513.988705 }, { "level": 18, "resolution": 0.5971642835598172, "scale": 2256.994353 }, { "level": 19, "resolution": 0.29858214164761665, "scale": 1128.497176 } ] }, "initialExtent": { "xmin": 965614.5655516186, "ymin": 5160187.724932258, "xmax": 1452413.1279679178, "ymax": 6068761.215073871, "spatialReference": { "wkid": 102100, "latestWkid": 3857, "xyTolerance": 0.001, "zTolerance": 0.001, "mTolerance": 0.001, "falseX": -20037700, "falseY": -30241100, "xyUnits": 10000, "falseZ": -100000, "zUnits": 10000, "falseM": -100000, "mUnits": 10000 } }, "fullExtent": { "xmin": 731120.0244050664, "ymin": 5472161.65524313, "xmax": 1026464.3858536561, "ymax": 5855313.144945965, "spatialReference": { "wkid": 102100, "latestWkid": 3857, "xyTolerance": 0.001, "zTolerance": 0.001, "mTolerance": 0.001, "falseX": -20037700, "falseY": -30241100, "xyUnits": 10000, "falseZ": -100000, "zUnits": 10000, "falseM": -100000, "mUnits": 10000 } }, "minScale": 5.91657527591555E8, "maxScale": 1128.497176, "units": "esriMeters", "supportedImageFormatTypes": "PNG32,PNG24,PNG,JPG,DIB,TIFF,EMF,PS,PDF,GIF,SVG,SVGZ,BMP", "documentInfo": { "Title": "GeoPiemonte_test", "Author": "", "Comments": "

La carta geologica della Regione Piemonte (Italia) è una rappresentazione grafica della geologia della regione basata sul contenuto di un'ampia banca dati che può essere interrogata attraverso la carta interattiva multiscala (GeoPiemonte Map) resa disponibile mediante un'applicazione WebGIS. I dati geologici rappresentati nella carta derivano dalla revisione delle carte geologiche e della letteratura esistente integrata con dati originali non pubblicati. La revisione e l'armonizzazione dei dati esistenti e nuovi è stata basata su criteri generali (litostratigrafici e litotettonici) utilizzati per la classificazione delle unità geologiche e della loro rappresentazione sulla carta. L¿applicazione di tali criteri fornisce una suddivisione gerarchica delle unità geologiche del Piemonte.Tali unità sono state descritte utilizzando vocabolari standard (IUGS CGI Standard Vocabulary per le Geoscienze). La carta fornisce informazioni riguardo a: unità litologiche, domini geotettonici, composizione, struttura ed età delle unità litologiche. Inoltre è fornita una descrizione litologica sintetica ad uso tecnico conforme allo standard SimpleLithology.<\/SPAN><\/P>
<\/P>
Per la descrizione completa si rimanda alla <\/SPAN>scheda metadati<\/SPAN><\/A><\/P><\/DIV>", "Subject": "La Carta Geologica Interattiva del Piemonte (Progetto GeoPiemonteMap)", "Category": "", "AntialiasingMode": "Fast", "TextAntialiasingMode": "Force", "Keywords": "Geologia,Piemonte,_geologia" }, "supportsQueryDomains": true, "capabilities": "Map,Query,Data", "supportedQueryFormats": "JSON, geoJSON, PBF", "exportTilesAllowed": false, "referenceScale": 0.0, "supportsDatumTransformation": true, "archivingInfo": {"supportsHistoricMoment": false}, "supportsClipping": true, "supportsSpatialFilter": true, "supportsQueryDataElements": true, "maxRecordCount": 2000, "maxImageHeight": 4096, "maxImageWidth": 4096, "supportedExtensions": "FeatureServer, WMSServer", "resampling": true, "serviceItemId": "86c785fc09344eee94dd42afb6918cca" }