{
 "currentVersion": 10.81,
 "cimVersion": "2.6.0",
 "serviceDescription": "<div style='text-align:Left; font-size:12pt;'><div><div><p><span>Informazioni litologiche alla scala 1:10.000 del Comune di Torino desunte dalla banca dati geologica del Progetto Carg (Legge 13 luglio 1999 n. 226) e relative note illustrative delle litologie presenti nel territorio comunale di Torino. In particolare la rielaborazione dei dati geologici deriva dai Fogli della Carta Geologica d\u2019Italia alla scala 1:50.000 n. 155 \u201cTorino Ovest\u201d e n. 156 \u201cTorino Est\u201d, nei quali è interamente compreso il territorio comunale di Torino. Tali fogli sono stati realizzati da Arpa Piemonte nell\u2019ambito del progetto di cartografia geologica nazionale (progetto CARG \u2013 carta geologica d\u2019Italia alla scala 1:50.000).<\/span><\/p><p><span>Per la descrizione completa si rimanda alla <\/span><a href='http://webgis.arpa.piemonte.it/gpserver_arpa/catalog/search/resource/details.page?uuid=ARLPA_TO%3A7.02.08-D_2012-11-05-16%3A52&title=Carta geologica degli affioramenti ed interpretativa del Comune di Torino (intranet arpa)' rel='nofollow ugc' style='font-size: 12pt;' target='_blank'>scheda metadati<\/a><\/p><\/div><\/div><\/div>",
 "mapName": "geologia_comune_torino",
 "description": "Informazioni litologiche alla scala 1:10.000 del Comune di Torino desunte dalla banca dati geologica del Progetto Carg (Legge 13 luglio 1999 n. 226) e relative note illustrative delle litologie presenti nel territorio comunale di Torino. In particolare la rielaborazione dei dati geologici deriva dai Fogli della Carta Geologica d\u2019Italia alla scala 1:50.000 n. 155 \u201cTorino Ovest\u201d e n. 156 \u201cTorino Est\u201d, nei quali è interamente compreso il territorio comunale di Torino. Tali fogli sono stati realizzati da Arpa Piemonte nell\u2019ambito del progetto di cartografia geologica nazionale (progetto CARG \u2013 carta geologica d\u2019Italia alla scala 1:50.000).Per la descrizione completa si rimanda alla scheda metadati",
 "copyrightText": "ARPA Piemonte",
 "supportsDynamicLayers": true,
 "layers": [
  {
   "id": 0,
   "name": "Giaciture - superficie di stratificazione ",
   "parentLayerId": -1,
   "defaultVisibility": true,
   "subLayerIds": null,
   "minScale": 0,
   "maxScale": 0,
   "type": "Feature Layer",
   "geometryType": "esriGeometryPoint",
   "supportsDynamicLegends": true
  },
  {
   "id": 1,
   "name": "Elementi geomorfologici",
   "parentLayerId": -1,
   "defaultVisibility": true,
   "subLayerIds": null,
   "minScale": 0,
   "maxScale": 0,
   "type": "Feature Layer",
   "geometryType": "esriGeometryPolyline",
   "supportsDynamicLegends": true
  },
  {
   "id": 2,
   "name": "Elementi strutturali",
   "parentLayerId": -1,
   "defaultVisibility": true,
   "subLayerIds": null,
   "minScale": 0,
   "maxScale": 0,
   "type": "Feature Layer",
   "geometryType": "esriGeometryPolyline",
   "supportsDynamicLegends": true
  },
  {
   "id": 3,
   "name": "Carta degli affioramenti",
   "parentLayerId": -1,
   "defaultVisibility": true,
   "subLayerIds": null,
   "minScale": 0,
   "maxScale": 0,
   "type": "Feature Layer",
   "geometryType": "esriGeometryPolygon",
   "supportsDynamicLegends": true
  },
  {
   "id": 4,
   "name": "Carta geologica ",
   "parentLayerId": -1,
   "defaultVisibility": true,
   "subLayerIds": null,
   "minScale": 0,
   "maxScale": 0,
   "type": "Feature Layer",
   "geometryType": "esriGeometryPolygon",
   "supportsDynamicLegends": true
  }
 ],
 "tables": [],
 "spatialReference": {
  "wkid": 102100,
  "latestWkid": 3857,
  "xyTolerance": 0.001,
  "zTolerance": 0.001,
  "mTolerance": 0.001,
  "falseX": -20037700,
  "falseY": -30241100,
  "xyUnits": 10000,
  "falseZ": -100000,
  "zUnits": 10000,
  "falseM": -100000,
  "mUnits": 10000
 },
 "singleFusedMapCache": true,
 "tileInfo": {
  "rows": 256,
  "cols": 256,
  "dpi": 96,
  "format": "PNG32",
  "compressionQuality": 0,
  "origin": {
   "x": -2.0037508342787E7,
   "y": 2.0037508342787E7
  },
  "spatialReference": {
   "wkid": 102100,
   "latestWkid": 3857,
   "xyTolerance": 0.001,
   "zTolerance": 0.001,
   "mTolerance": 0.001,
   "falseX": -20037700,
   "falseY": -30241100,
   "xyUnits": 1.4892314192838538E8,
   "falseZ": -100000,
   "zUnits": 10000,
   "falseM": -100000,
   "mUnits": 10000
  },
  "lods": [
   {
    "level": 0,
    "resolution": 156543.033928,
    "scale": 5.91657527591555E8
   },
   {
    "level": 1,
    "resolution": 78271.5169639999,
    "scale": 2.95828763795777E8
   },
   {
    "level": 2,
    "resolution": 39135.7584820001,
    "scale": 1.47914381897889E8
   },
   {
    "level": 3,
    "resolution": 19567.8792409999,
    "scale": 7.3957190948944E7
   },
   {
    "level": 4,
    "resolution": 9783.93962049996,
    "scale": 3.6978595474472E7
   },
   {
    "level": 5,
    "resolution": 4891.96981024998,
    "scale": 1.8489297737236E7
   },
   {
    "level": 6,
    "resolution": 2445.98490512499,
    "scale": 9244648.868618
   },
   {
    "level": 7,
    "resolution": 1222.99245256249,
    "scale": 4622324.434309
   },
   {
    "level": 8,
    "resolution": 611.49622628138,
    "scale": 2311162.217155
   },
   {
    "level": 9,
    "resolution": 305.748113140558,
    "scale": 1155581.108577
   },
   {
    "level": 10,
    "resolution": 152.874056570411,
    "scale": 577790.554289
   },
   {
    "level": 11,
    "resolution": 76.4370282850732,
    "scale": 288895.277144
   },
   {
    "level": 12,
    "resolution": 38.2185141425366,
    "scale": 144447.638572
   },
   {
    "level": 13,
    "resolution": 19.1092570712683,
    "scale": 72223.819286
   },
   {
    "level": 14,
    "resolution": 9.55462853563415,
    "scale": 36111.909643
   },
   {
    "level": 15,
    "resolution": 4.77731426794937,
    "scale": 18055.954822
   },
   {
    "level": 16,
    "resolution": 2.38865713397468,
    "scale": 9027.977411
   },
   {
    "level": 17,
    "resolution": 1.19432856685505,
    "scale": 4513.988705
   },
   {
    "level": 18,
    "resolution": 0.597164283559817,
    "scale": 2256.994353
   },
   {
    "level": 19,
    "resolution": 0.298582141647617,
    "scale": 1128.497176
   },
   {
    "level": 20,
    "resolution": 0.14929107082380833,
    "scale": 564.248588
   },
   {
    "level": 21,
    "resolution": 0.07464553541190416,
    "scale": 282.124294
   },
   {
    "level": 22,
    "resolution": 0.03732276770595208,
    "scale": 141.062147
   },
   {
    "level": 23,
    "resolution": 0.01866138385297604,
    "scale": 70.5310735
   }
  ]
 },
 "initialExtent": {
  "xmin": 854965.3170073872,
  "ymin": 5627909.042962424,
  "xmax": 855483.1823394789,
  "ymax": 5628387.20711717,
  "spatialReference": {
   "cs": "pcs",
   "wkid": 102100
  }
 },
 "fullExtent": {
  "xmin": 843292.624190119,
  "ymin": 5622265.485040973,
  "xmax": 865516.4758541146,
  "ymax": 5643822.3542335285,
  "spatialReference": {
   "cs": "pcs",
   "wkid": 102100
  }
 },
 "minScale": 1155581.108577,
 "maxScale": 1128.497176,
 "minLOD": 9,
 "maxLOD": 19,
 "units": "esriMeters",
 "supportedImageFormatTypes": "PNG32,PNG24,PNG,JPG,DIB,TIFF,EMF,PS,PDF,GIF,SVG,SVGZ,BMP",
 "documentInfo": {
  "Title": "Carta geologica degli affioramenti ed interpretativa del Comune di Torino",
  "Author": "",
  "Comments": "Informazioni litologiche alla scala 1:10.000 del Comune di Torino desunte dalla banca dati geologica del Progetto Carg (Legge 13 luglio 1999 n. 226) e relative note illustrative delle litologie presenti nel territorio comunale di Torino. In particolare la rielaborazione dei dati geologici deriva dai Fogli della Carta Geologica d\u2019Italia alla scala 1:50.000 n. 155 \u201cTorino Ovest\u201d e n. 156 \u201cTorino Est\u201d, nei quali è interamente compreso il territorio comunale di Torino. Tali fogli sono stati realizzati da Arpa Piemonte nell\u2019ambito del progetto di cartografia geologica nazionale (progetto CARG \u2013 carta geologica d\u2019Italia alla scala 1:50.000).Per la descrizione completa si rimanda alla scheda metadati",
  "Subject": "Cartografia degli affioramenti ed interpretativa alla scala 1:10.000 relativa al territorio del Comune di Torino (intranet arpa)",
  "Category": "",
  "AntialiasingMode": "None",
  "TextAntialiasingMode": "Force",
  "Keywords": "geologia,affiormenti geologici,elementi strutturali,geomorfologia,giaciture,Torino,_geologia"
 },
 "capabilities": "Query,Map,Data",
 "supportedQueryFormats": "JSON, geoJSON, PBF",
 "exportTilesAllowed": false,
 "referenceScale": 0.0,
 "datumTransformations": [
  {
   "geoTransforms": [
    {
     "wkid": 108001,
     "latestWkid": 1241,
     "transformForward": true,
     "name": "NAD_1927_To_NAD_1983_NADCON"
    }
   ]
  },
  {
   "geoTransforms": [
    {
     "wkid": 108001,
     "latestWkid": 1241,
     "transformForward": false,
     "name": "NAD_1927_To_NAD_1983_NADCON"
    }
   ]
  }
 ],
 "supportsDatumTransformation": true,
 "archivingInfo": {
  "supportsHistoricMoment": false
 },
 "supportsClipping": true,
 "supportsSpatialFilter": true,
 "supportsQueryDataElements": true,
 "maxRecordCount": 2000,
 "maxImageHeight": 4096,
 "maxImageWidth": 4096,
 "supportedExtensions": "FeatureServer",
 "serviceItemId": "27617fe8338046bd8f4a057ae5eeeb57"
}
