{
 "currentVersion": 10.81,
 "serviceDescription": "meteorologia_clima/METEOGIS_CAMBIA_CLIMA_D20",
 "name": "meteorologia_clima/METEOGIS_CAMBIA_CLIMA_D20",
 "description": "",
 "extent": {
  "xmin": 736746.8867999986,
  "ymin": 5474071.349415559,
  "xmax": 1026873.3096799846,
  "ymax": 5856036.3522000015,
  "spatialReference": {
   "wkid": 102100,
   "latestWkid": 3857
  }
 },
 "initialExtent": {
  "xmin": 736746.8867999986,
  "ymin": 5474071.349415559,
  "xmax": 1026873.3096799846,
  "ymax": 5856036.3522000015,
  "spatialReference": {
   "wkid": 102100,
   "latestWkid": 3857
  }
 },
 "fullExtent": {
  "xmin": 736746.8867999986,
  "ymin": 5474071.349415559,
  "xmax": 1026873.3096799846,
  "ymax": 5856036.3522000015,
  "spatialReference": {
   "wkid": 102100,
   "latestWkid": 3857
  }
 },
 "pixelSizeX": 695.746817458,
 "pixelSizeY": 695.7468174580002,
 "datasetFormat": "AMD",
 "uncompressedSize": 915732,
 "blockWidth": 2048,
 "blockHeight": 256,
 "compressionType": "None",
 "bandNames": [
  "Band_1"
 ],
 "allowCopy": true,
 "allowAnalysis": true,
 "bandCount": 1,
 "pixelType": "F32",
 "minPixelSize": 0,
 "maxPixelSize": 0,
 "copyrightText": "",
 "serviceDataType": "esriImageServiceDataTypeGeneric",
 "serviceSourceType": "esriImageServiceSourceTypeMosaicDataset",
 "minValues": [
  0.0720507800579071
 ],
 "maxValues": [
  36.81794860959053
 ],
 "meanValues": [
  12.734430722742625
 ],
 "stdvValues": [
  8.195844588029694
 ],
 "objectIdField": "OBJECTID",
 "fields": [
  {
   "name": "OBJECTID",
   "type": "esriFieldTypeOID",
   "alias": "OBJECTID",
   "domain": null
  },
  {
   "name": "NAME",
   "type": "esriFieldTypeString",
   "alias": "NAME",
   "domain": null,
   "length": 200
  },
  {
   "name": "CATEGORY",
   "type": "esriFieldTypeInteger",
   "alias": "CATEGORY",
   "domain": {
    "type": "codedValue",
    "name": "MosaicCatalogItemCategoryDomain",
    "description": "Catalog item categories.",
    "codedValues": [
     {
      "name": "Unknown",
      "code": 0
     },
     {
      "name": "Primary",
      "code": 1
     },
     {
      "name": "Overview",
      "code": 2
     },
     {
      "name": "Unprocessed Overview",
      "code": 3
     },
     {
      "name": "Partial Overview",
      "code": 4
     },
     {
      "name": "Inactive",
      "code": 5
     },
     {
      "name": "Uploaded",
      "code": 253
     },
     {
      "name": "Incomplete",
      "code": 254
     },
     {
      "name": "Custom",
      "code": 255
     }
    ],
    "mergePolicy": "esriMPTDefaultValue",
    "splitPolicy": "esriSPTDefaultValue"
   }
  },
  {
   "name": "GROUPNAME",
   "type": "esriFieldTypeString",
   "alias": "GROUPNAME",
   "domain": null,
   "length": 100
  },
  {
   "name": "PRODUCTNAME",
   "type": "esriFieldTypeString",
   "alias": "PRODUCTNAME",
   "domain": null,
   "length": 100
  },
  {
   "name": "CENTERX",
   "type": "esriFieldTypeDouble",
   "alias": "CENTERX",
   "domain": null
  },
  {
   "name": "CENTERY",
   "type": "esriFieldTypeDouble",
   "alias": "CENTERY",
   "domain": null
  },
  {
   "name": "ZORDER",
   "type": "esriFieldTypeInteger",
   "alias": "ZORDER",
   "domain": null
  },
  {
   "name": "SHAPE",
   "type": "esriFieldTypeGeometry",
   "alias": "SHAPE",
   "domain": null
  },
  {
   "name": "RASTER_FUN",
   "type": "esriFieldTypeString",
   "alias": "RASTER_FUN",
   "domain": null,
   "length": 100
  },
  {
   "name": "TIPO_IND_CLIMA",
   "type": "esriFieldTypeString",
   "alias": "TIPO_IND_CLIMA",
   "domain": {
    "type": "codedValue",
    "name": "TIPO_IND_CLIMA",
    "description": "Tipo indicatore climatico (webapp cambiamenti climatici)",
    "codedValues": [
     {
      "name": "Clima attuale",
      "code": "1"
     },
     {
      "name": "Scenari futuri",
      "code": "2"
     },
     {
      "name": "Tendenze del clima attuale",
      "code": "3"
     }
    ],
    "mergePolicy": "esriMPTDefaultValue",
    "splitPolicy": "esriSPTDefaultValue"
   },
   "length": 255
  },
  {
   "name": "SETTORE1",
   "type": "esriFieldTypeString",
   "alias": "SETTORE1",
   "domain": {
    "type": "codedValue",
    "name": "SET_IND_CLIM",
    "description": "Settore indicatore climatico (webapp cambiamenti climatici)",
    "codedValues": [
     {
      "name": "Agricoltura",
      "code": "2"
     },
     {
      "name": "Foreste",
      "code": "3"
     },
     {
      "name": "Biodiversità ed ecosistemi",
      "code": "4"
     },
     {
      "name": "Risorse idriche",
      "code": "5"
     },
     {
      "name": "Dissesto geologico, idrologico e idraulico",
      "code": "6"
     },
     {
      "name": "Salute",
      "code": "7"
     },
     {
      "name": "Energia e trasporti",
      "code": "8"
     },
     {
      "name": "Patrimonio culturale",
      "code": "9"
     },
     {
      "name": "Turismo",
      "code": "10"
     },
     {
      "name": "Generale",
      "code": "1"
     }
    ],
    "mergePolicy": "esriMPTDefaultValue",
    "splitPolicy": "esriSPTDefaultValue"
   },
   "length": 255
  },
  {
   "name": "SETTORE2",
   "type": "esriFieldTypeString",
   "alias": "SETTORE2",
   "domain": {
    "type": "codedValue",
    "name": "SET_IND_CLIM",
    "description": "Settore indicatore climatico (webapp cambiamenti climatici)",
    "codedValues": [
     {
      "name": "Agricoltura",
      "code": "2"
     },
     {
      "name": "Foreste",
      "code": "3"
     },
     {
      "name": "Biodiversità ed ecosistemi",
      "code": "4"
     },
     {
      "name": "Risorse idriche",
      "code": "5"
     },
     {
      "name": "Dissesto geologico, idrologico e idraulico",
      "code": "6"
     },
     {
      "name": "Salute",
      "code": "7"
     },
     {
      "name": "Energia e trasporti",
      "code": "8"
     },
     {
      "name": "Patrimonio culturale",
      "code": "9"
     },
     {
      "name": "Turismo",
      "code": "10"
     },
     {
      "name": "Generale",
      "code": "1"
     }
    ],
    "mergePolicy": "esriMPTDefaultValue",
    "splitPolicy": "esriSPTDefaultValue"
   },
   "length": 255
  },
  {
   "name": "SETTORE3",
   "type": "esriFieldTypeString",
   "alias": "SETTORE3",
   "domain": {
    "type": "codedValue",
    "name": "SET_IND_CLIM",
    "description": "Settore indicatore climatico (webapp cambiamenti climatici)",
    "codedValues": [
     {
      "name": "Agricoltura",
      "code": "2"
     },
     {
      "name": "Foreste",
      "code": "3"
     },
     {
      "name": "Biodiversità ed ecosistemi",
      "code": "4"
     },
     {
      "name": "Risorse idriche",
      "code": "5"
     },
     {
      "name": "Dissesto geologico, idrologico e idraulico",
      "code": "6"
     },
     {
      "name": "Salute",
      "code": "7"
     },
     {
      "name": "Energia e trasporti",
      "code": "8"
     },
     {
      "name": "Patrimonio culturale",
      "code": "9"
     },
     {
      "name": "Turismo",
      "code": "10"
     },
     {
      "name": "Generale",
      "code": "1"
     }
    ],
    "mergePolicy": "esriMPTDefaultValue",
    "splitPolicy": "esriSPTDefaultValue"
   },
   "length": 255
  },
  {
   "name": "SETTORE4",
   "type": "esriFieldTypeString",
   "alias": "SETTORE4",
   "domain": {
    "type": "codedValue",
    "name": "SET_IND_CLIM",
    "description": "Settore indicatore climatico (webapp cambiamenti climatici)",
    "codedValues": [
     {
      "name": "Agricoltura",
      "code": "2"
     },
     {
      "name": "Foreste",
      "code": "3"
     },
     {
      "name": "Biodiversità ed ecosistemi",
      "code": "4"
     },
     {
      "name": "Risorse idriche",
      "code": "5"
     },
     {
      "name": "Dissesto geologico, idrologico e idraulico",
      "code": "6"
     },
     {
      "name": "Salute",
      "code": "7"
     },
     {
      "name": "Energia e trasporti",
      "code": "8"
     },
     {
      "name": "Patrimonio culturale",
      "code": "9"
     },
     {
      "name": "Turismo",
      "code": "10"
     },
     {
      "name": "Generale",
      "code": "1"
     }
    ],
    "mergePolicy": "esriMPTDefaultValue",
    "splitPolicy": "esriSPTDefaultValue"
   },
   "length": 255
  },
  {
   "name": "MOSAIC_RULE",
   "type": "esriFieldTypeString",
   "alias": "MOSAIC_RULE",
   "domain": null,
   "length": 2000
  },
  {
   "name": "DESCRIZIONE",
   "type": "esriFieldTypeString",
   "alias": "DESCRIZIONE",
   "domain": null,
   "length": 2000
  },
  {
   "name": "RIF_TEMPO",
   "type": "esriFieldTypeSmallInteger",
   "alias": "RIF_TEMPO",
   "domain": {
    "type": "codedValue",
    "name": "RIF_TEMPO_CAMBIA_CLIMA",
    "description": "Riferimento temporale del dato (per webapp cambiamenti climatici)",
    "codedValues": [
     {
      "name": "Mese",
      "code": 1
     },
     {
      "name": "Stagione",
      "code": 2
     },
     {
      "name": "Anno",
      "code": 3
     }
    ],
    "mergePolicy": "esriMPTDefaultValue",
    "splitPolicy": "esriSPTDefaultValue"
   }
  },
  {
   "name": "GRAF",
   "type": "esriFieldTypeSmallInteger",
   "alias": "GRAF",
   "domain": {
    "type": "codedValue",
    "name": "GRAF_CAMBIA_CLIMA",
    "description": "Tipo e numero dei grafici da generare (webapp cambiamenti climatici)",
    "codedValues": [
     {
      "name": "Stagione (S) - 1 grafico con i dati della stagione riferiti ai 4 scenari",
      "code": 12
     },
     {
      "name": "Anno (O) - 1 grafico con il valore annuale",
      "code": 13
     },
     {
      "name": "Anno (S): 1 grafico con i dati annuali dei 4 scenari",
      "code": 133
     },
     {
      "name": "Soglie giorni piovosi (O) - 2 grafici: il primo con le 5 soglie annuali, il secondo con le 4 stagioni",
      "code": 232
     },
     {
      "name": "Mesi, stagioni, anno (O) - 3 grafici raggruppati per mesi, stagioni ed anno",
      "code": 3123
     },
     {
      "name": "Tendenze temperature (T) - 2 grafici: il primo con il datao annuale, il secondo con le 4 stagioni",
      "code": 233
     },
     {
      "name": "Anno (O) - 2 grafici: Primo giorno dell'anno con assenza di gelo; primo giorno dell'anno della stagione di crescita",
      "code": 234
     }
    ],
    "mergePolicy": "esriMPTDefaultValue",
    "splitPolicy": "esriSPTDefaultValue"
   }
  },
  {
   "name": "UNITA_MISURA",
   "type": "esriFieldTypeSmallInteger",
   "alias": "UNITA_MISURA",
   "domain": {
    "type": "codedValue",
    "name": "UM_CAMBIA_CLIMA",
    "description": "Unità di misura (webapp cambiamenti climatici)",
    "codedValues": [
     {
      "name": "[mm]",
      "code": 1
     },
     {
      "name": "[°C]",
      "code": 2
     },
     {
      "name": "[giorni]",
      "code": 3
     },
     {
      "name": "[%]",
      "code": 4
     },
     {
      "name": "[°C/10 anni]",
      "code": 5
     },
     {
      "name": "[mm/10 anni]",
      "code": 6
     },
     {
      "name": "[giorni/10 anni]",
      "code": 7
     },
     {
      "name": "[%/10 anni]",
      "code": 8
     }
    ],
    "mergePolicy": "esriMPTDefaultValue",
    "splitPolicy": "esriSPTDefaultValue"
   }
  },
  {
   "name": "WEBAPP",
   "type": "esriFieldTypeString",
   "alias": "WEBAPP",
   "domain": {
    "type": "codedValue",
    "name": "G_SI_NO_FLAG",
    "description": "Dominio esclusivo SI o NO",
    "codedValues": [
     {
      "name": "SI",
      "code": "1"
     },
     {
      "name": "NO",
      "code": "2"
     }
    ],
    "mergePolicy": "esriMPTDefaultValue",
    "splitPolicy": "esriSPTDefaultValue"
   },
   "length": 255
  },
  {
   "name": "CODICE",
   "type": "esriFieldTypeString",
   "alias": "CODICE",
   "domain": null,
   "length": 50
  }
 ],
 "capabilities": "Image,Metadata,Catalog",
 "defaultMosaicMethod": "Northwest",
 "allowedMosaicMethods": "NorthWest,Center,LockRaster,ByAttribute,Nadir,Viewpoint,Seamline,None",
 "sortField": "",
 "sortValue": null,
 "sortAscending": true,
 "mosaicOperator": "First",
 "maxDownloadSizeLimit": 2048,
 "defaultCompressionQuality": 75,
 "defaultResamplingMethod": "Nearest",
 "maxImageHeight": 4100,
 "maxImageWidth": 15000,
 "maxRecordCount": 1000,
 "maxDownloadImageCount": 20,
 "maxMosaicImageCount": 20,
 "allowRasterFunction": true,
 "rasterFunctionInfos": [
  {
   "name": "None",
   "description": "Make a Raster or Raster Dataset into a Function Raster Dataset.",
   "help": ""
  },
  {
   "name": "trend_cdd",
   "description": "Andamento indice CDD - Gradi giorno raffrescamento",
   "help": ""
  },
  {
   "name": "trend_dyffss",
   "description": "Tendenza primo giorno anno con assenza di gelo",
   "help": ""
  },
  {
   "name": "trend_dygss",
   "description": "Trend primo giorno dell'anno della stagione di cescita",
   "help": ""
  },
  {
   "name": "trend_et0_sign",
   "description": "Trend dell'evapotraspirazione potenziale (PET)",
   "help": ""
  },
  {
   "name": "trend_ffsl",
   "description": "Trend della lunghezza media del periodo in assenza di gelo",
   "help": ""
  },
  {
   "name": "trend_frazNP",
   "description": "Trend frazione neve/pioggia",
   "help": ""
  },
  {
   "name": "trend_frost_days",
   "description": "Trend numero giorni di gelo",
   "help": ""
  },
  {
   "name": "trend_gdd",
   "description": "Trend della somma termica GDD",
   "help": ""
  },
  {
   "name": "trend_giorni_piov",
   "description": "Trend giorni piovosi - Tutte le soglie",
   "help": ""
  },
  {
   "name": "trend_hdd",
   "description": "trend gradi giorno di riscaldamento",
   "help": ""
  },
  {
   "name": "trend_max_cdd",
   "description": "Trend del numero massimo di giorni consecutivi con precipitazione cumulata giornaliera inferiore a 1mm",
   "help": ""
  },
  {
   "name": "trend_prec",
   "description": "Trend delle precipitazioni annuali e stagionali",
   "help": ""
  },
  {
   "name": "trend_sign_spei",
   "description": "Andamento indice SPEI",
   "help": ""
  },
  {
   "name": "trend_tgsl",
   "description": "Trend lunghezza media della stagione di crescita",
   "help": ""
  },
  {
   "name": "trend_tmax",
   "description": "Trend Tmax stagionale",
   "help": ""
  },
  {
   "name": "trend_tmax_year",
   "description": "Trend Tmax annuale",
   "help": ""
  },
  {
   "name": "trend_tmin",
   "description": "Trend Tmin stagionale",
   "help": ""
  },
  {
   "name": "trend_tmin_year",
   "description": "Trend Tmin annuale",
   "help": ""
  },
  {
   "name": "trend_trop_days",
   "description": "Tendenza del numero di giorni tropicali",
   "help": ""
  },
  {
   "name": "trend_trop_nights",
   "description": "tendenza del numero di notti tropicali",
   "help": ""
  }
 ],
 "rasterTypeInfos": [
  {
   "name": "Raster Dataset",
   "description": "Supports all ArcGIS Raster Datasets",
   "help": ""
  }
 ],
 "mensurationCapabilities": "None",
 "hasHistograms": true,
 "hasColormap": false,
 "hasRasterAttributeTable": false,
 "minScale": 0,
 "maxScale": 0,
 "exportTilesAllowed": false,
 "hasMultidimensions": false,
 "supportsStatistics": true,
 "supportsAdvancedQueries": true,
 "editFieldsInfo": null,
 "ownershipBasedAccessControlForRasters": null,
 "allowComputeTiePoints": false,
 "useStandardizedQueries": true,
 "advancedQueryCapabilities": {
  "useStandardizedQueries": true,
  "supportsStatistics": true,
  "supportsOrderBy": true,
  "supportsDistinct": true,
  "supportsPagination": true
 },
 "spatialReference": {
  "wkid": 102100,
  "latestWkid": 3857
 }
}
