{
 "currentVersion": 10.81,
 "serviceDescription": "test/METEOGIS_CAMBIA_TEST",
 "name": "test/METEOGIS_CAMBIA_TEST",
 "description": "",
 "extent": {
  "xmin": 737498.2520054799,
  "ymin": 5474878.175827003,
  "xmax": 1025537.4344330919,
  "ymax": 5856147.431793987,
  "spatialReference": {
   "wkid": 102100,
   "latestWkid": 3857
  }
 },
 "initialExtent": {
  "xmin": 737498.2520054799,
  "ymin": 5474878.175827003,
  "xmax": 1025537.4344330919,
  "ymax": 5856147.431793987,
  "spatialReference": {
   "wkid": 102100,
   "latestWkid": 3857
  }
 },
 "fullExtent": {
  "xmin": 737498.2520054799,
  "ymin": 5474878.175827003,
  "xmax": 1025537.4344330919,
  "ymax": 5856147.431793987,
  "spatialReference": {
   "wkid": 102100,
   "latestWkid": 3857
  }
 },
 "pixelSizeX": 695.746817458,
 "pixelSizeY": 695.7468174579996,
 "datasetFormat": "AMD",
 "uncompressedSize": 907488,
 "blockWidth": 2048,
 "blockHeight": 256,
 "compressionType": "None",
 "bandNames": [
  "Band_1"
 ],
 "allowCopy": true,
 "allowAnalysis": true,
 "bandCount": 1,
 "pixelType": "F32",
 "minPixelSize": 0,
 "maxPixelSize": 0,
 "copyrightText": "",
 "serviceDataType": "esriImageServiceDataTypeGeneric",
 "serviceSourceType": "esriImageServiceSourceTypeMosaicDataset",
 "minValues": [
  -177.1250024139881
 ],
 "maxValues": [
  6139.220964938402
 ],
 "meanValues": [
  18.15549503951841
 ],
 "stdvValues": [
  37.89485606292611
 ],
 "objectIdField": "OBJECTID",
 "fields": [
  {
   "name": "OBJECTID",
   "type": "esriFieldTypeOID",
   "alias": "OBJECTID",
   "domain": null
  },
  {
   "name": "NAME",
   "type": "esriFieldTypeString",
   "alias": "NAME",
   "domain": null,
   "length": 200
  },
  {
   "name": "MINPS",
   "type": "esriFieldTypeDouble",
   "alias": "MINPS",
   "domain": null
  },
  {
   "name": "MAXPS",
   "type": "esriFieldTypeDouble",
   "alias": "MAXPS",
   "domain": null
  },
  {
   "name": "LOWPS",
   "type": "esriFieldTypeDouble",
   "alias": "LOWPS",
   "domain": null
  },
  {
   "name": "HIGHPS",
   "type": "esriFieldTypeDouble",
   "alias": "HIGHPS",
   "domain": null
  },
  {
   "name": "CATEGORY",
   "type": "esriFieldTypeInteger",
   "alias": "CATEGORY",
   "domain": {
    "type": "codedValue",
    "name": "MosaicCatalogItemCategoryDomain",
    "description": "Catalog item categories.",
    "codedValues": [
     {
      "name": "Unknown",
      "code": 0
     },
     {
      "name": "Primary",
      "code": 1
     },
     {
      "name": "Overview",
      "code": 2
     },
     {
      "name": "Unprocessed Overview",
      "code": 3
     },
     {
      "name": "Partial Overview",
      "code": 4
     },
     {
      "name": "Inactive",
      "code": 5
     },
     {
      "name": "Uploaded",
      "code": 253
     },
     {
      "name": "Incomplete",
      "code": 254
     },
     {
      "name": "Custom",
      "code": 255
     }
    ],
    "mergePolicy": "esriMPTDefaultValue",
    "splitPolicy": "esriSPTDefaultValue"
   }
  },
  {
   "name": "TAG",
   "type": "esriFieldTypeString",
   "alias": "TAG",
   "domain": null,
   "length": 100
  },
  {
   "name": "GROUPNAME",
   "type": "esriFieldTypeString",
   "alias": "GROUPNAME",
   "domain": null,
   "length": 100
  },
  {
   "name": "PRODUCTNAME",
   "type": "esriFieldTypeString",
   "alias": "PRODUCTNAME",
   "domain": null,
   "length": 100
  },
  {
   "name": "CENTERX",
   "type": "esriFieldTypeDouble",
   "alias": "CENTERX",
   "domain": null
  },
  {
   "name": "CENTERY",
   "type": "esriFieldTypeDouble",
   "alias": "CENTERY",
   "domain": null
  },
  {
   "name": "ZORDER",
   "type": "esriFieldTypeInteger",
   "alias": "ZORDER",
   "domain": null
  },
  {
   "name": "ID_FOOTPRINT",
   "type": "esriFieldTypeSmallInteger",
   "alias": "ID_FOOTPRINT",
   "domain": null
  },
  {
   "name": "RASTER_FUN",
   "type": "esriFieldTypeString",
   "alias": "RASTER_FUN",
   "domain": null,
   "length": 100
  },
  {
   "name": "TIPO_IND_CLIMA",
   "type": "esriFieldTypeString",
   "alias": "TIPO_IND_CLIMA",
   "domain": {
    "type": "codedValue",
    "name": "TIPO_IND_CLIMA",
    "description": "Tipo indicatore climatico (webapp cambiamenti climatici)",
    "codedValues": [
     {
      "name": "Clima attuale",
      "code": "1"
     },
     {
      "name": "Scenari futuri",
      "code": "2"
     },
     {
      "name": "Tendenze del clima attuale",
      "code": "3"
     }
    ],
    "mergePolicy": "esriMPTDefaultValue",
    "splitPolicy": "esriSPTDefaultValue"
   },
   "length": 255
  },
  {
   "name": "SETTORE1",
   "type": "esriFieldTypeString",
   "alias": "SETTORE1",
   "domain": {
    "type": "codedValue",
    "name": "SET_IND_CLIM",
    "description": "Settore indicatore climatico (webapp cambiamenti climatici)",
    "codedValues": [
     {
      "name": "Agricoltura",
      "code": "2"
     },
     {
      "name": "Foreste",
      "code": "3"
     },
     {
      "name": "Biodiversità ed ecosistemi",
      "code": "4"
     },
     {
      "name": "Risorse idriche",
      "code": "5"
     },
     {
      "name": "Dissesto geologico, idrologico e idraulico",
      "code": "6"
     },
     {
      "name": "Salute",
      "code": "7"
     },
     {
      "name": "Energia e trasporti",
      "code": "8"
     },
     {
      "name": "Patrimonio culturale",
      "code": "9"
     },
     {
      "name": "Turismo",
      "code": "10"
     },
     {
      "name": "Generale",
      "code": "1"
     }
    ],
    "mergePolicy": "esriMPTDefaultValue",
    "splitPolicy": "esriSPTDefaultValue"
   },
   "length": 255
  },
  {
   "name": "SETTORE2",
   "type": "esriFieldTypeString",
   "alias": "SETTORE2",
   "domain": {
    "type": "codedValue",
    "name": "SET_IND_CLIM",
    "description": "Settore indicatore climatico (webapp cambiamenti climatici)",
    "codedValues": [
     {
      "name": "Agricoltura",
      "code": "2"
     },
     {
      "name": "Foreste",
      "code": "3"
     },
     {
      "name": "Biodiversità ed ecosistemi",
      "code": "4"
     },
     {
      "name": "Risorse idriche",
      "code": "5"
     },
     {
      "name": "Dissesto geologico, idrologico e idraulico",
      "code": "6"
     },
     {
      "name": "Salute",
      "code": "7"
     },
     {
      "name": "Energia e trasporti",
      "code": "8"
     },
     {
      "name": "Patrimonio culturale",
      "code": "9"
     },
     {
      "name": "Turismo",
      "code": "10"
     },
     {
      "name": "Generale",
      "code": "1"
     }
    ],
    "mergePolicy": "esriMPTDefaultValue",
    "splitPolicy": "esriSPTDefaultValue"
   },
   "length": 255
  },
  {
   "name": "SETTORE3",
   "type": "esriFieldTypeString",
   "alias": "SETTORE3",
   "domain": {
    "type": "codedValue",
    "name": "SET_IND_CLIM",
    "description": "Settore indicatore climatico (webapp cambiamenti climatici)",
    "codedValues": [
     {
      "name": "Agricoltura",
      "code": "2"
     },
     {
      "name": "Foreste",
      "code": "3"
     },
     {
      "name": "Biodiversità ed ecosistemi",
      "code": "4"
     },
     {
      "name": "Risorse idriche",
      "code": "5"
     },
     {
      "name": "Dissesto geologico, idrologico e idraulico",
      "code": "6"
     },
     {
      "name": "Salute",
      "code": "7"
     },
     {
      "name": "Energia e trasporti",
      "code": "8"
     },
     {
      "name": "Patrimonio culturale",
      "code": "9"
     },
     {
      "name": "Turismo",
      "code": "10"
     },
     {
      "name": "Generale",
      "code": "1"
     }
    ],
    "mergePolicy": "esriMPTDefaultValue",
    "splitPolicy": "esriSPTDefaultValue"
   },
   "length": 255
  },
  {
   "name": "SETTORE4",
   "type": "esriFieldTypeString",
   "alias": "SETTORE4",
   "domain": {
    "type": "codedValue",
    "name": "SET_IND_CLIM",
    "description": "Settore indicatore climatico (webapp cambiamenti climatici)",
    "codedValues": [
     {
      "name": "Agricoltura",
      "code": "2"
     },
     {
      "name": "Foreste",
      "code": "3"
     },
     {
      "name": "Biodiversità ed ecosistemi",
      "code": "4"
     },
     {
      "name": "Risorse idriche",
      "code": "5"
     },
     {
      "name": "Dissesto geologico, idrologico e idraulico",
      "code": "6"
     },
     {
      "name": "Salute",
      "code": "7"
     },
     {
      "name": "Energia e trasporti",
      "code": "8"
     },
     {
      "name": "Patrimonio culturale",
      "code": "9"
     },
     {
      "name": "Turismo",
      "code": "10"
     },
     {
      "name": "Generale",
      "code": "1"
     }
    ],
    "mergePolicy": "esriMPTDefaultValue",
    "splitPolicy": "esriSPTDefaultValue"
   },
   "length": 255
  },
  {
   "name": "MOSAIC_RULE",
   "type": "esriFieldTypeString",
   "alias": "MOSAIC_RULE",
   "domain": null,
   "length": 2000
  },
  {
   "name": "DESCRIZIONE",
   "type": "esriFieldTypeString",
   "alias": "DESCRIZIONE",
   "domain": null,
   "length": 2000
  },
  {
   "name": "RIF_TEMPO",
   "type": "esriFieldTypeSmallInteger",
   "alias": "RIF_TEMPO",
   "domain": {
    "type": "codedValue",
    "name": "RIF_TEMPO_CAMBIA_CLIMA",
    "description": "Riferimento temporale del dato (per webapp cambiamenti climatici)",
    "codedValues": [
     {
      "name": "Mese",
      "code": 1
     },
     {
      "name": "Stagione",
      "code": 2
     },
     {
      "name": "Anno",
      "code": 3
     }
    ],
    "mergePolicy": "esriMPTDefaultValue",
    "splitPolicy": "esriSPTDefaultValue"
   }
  },
  {
   "name": "GRAF",
   "type": "esriFieldTypeSmallInteger",
   "alias": "GRAF",
   "domain": {
    "type": "codedValue",
    "name": "GRAF_CAMBIA_CLIMA",
    "description": "Tipo e numero dei grafici da generare (webapp cambiamenti climatici)",
    "codedValues": [
     {
      "name": "Stagione (S) - 1 grafico con i dati della stagione riferiti ai 4 scenari",
      "code": 12
     },
     {
      "name": "Anno (O) - 1 grafico con il valore annuale",
      "code": 13
     },
     {
      "name": "Anno (S): 1 grafico con i dati annuali dei 4 scenari",
      "code": 133
     },
     {
      "name": "Soglie giorni piovosi (O) - 2 grafici: il primo con le 5 soglie annuali, il secondo con le 4 stagioni",
      "code": 232
     },
     {
      "name": "Mesi, stagioni, anno (O) - 3 grafici raggruppati per mesi, stagioni ed anno",
      "code": 3123
     },
     {
      "name": "Tendenze temperature (T) - 2 grafici: il primo con il datao annuale, il secondo con le 4 stagioni",
      "code": 233
     },
     {
      "name": "Anno (O) - 2 grafici: Primo giorno dell'anno con assenza di gelo; primo giorno dell'anno della stagione di crescita",
      "code": 234
     }
    ],
    "mergePolicy": "esriMPTDefaultValue",
    "splitPolicy": "esriSPTDefaultValue"
   }
  },
  {
   "name": "UNITA_MISURA",
   "type": "esriFieldTypeSmallInteger",
   "alias": "UM",
   "domain": {
    "type": "codedValue",
    "name": "UM_CAMBIA_CLIMA",
    "description": "Unità di misura (webapp cambiamenti climatici)",
    "codedValues": [
     {
      "name": "[mm]",
      "code": 1
     },
     {
      "name": "[°C]",
      "code": 2
     },
     {
      "name": "[giorni]",
      "code": 3
     },
     {
      "name": "[%]",
      "code": 4
     },
     {
      "name": "[°C/10 anni]",
      "code": 5
     },
     {
      "name": "[mm/10 anni]",
      "code": 6
     },
     {
      "name": "[giorni/10 anni]",
      "code": 7
     },
     {
      "name": "[%/10 anni]",
      "code": 8
     }
    ],
    "mergePolicy": "esriMPTDefaultValue",
    "splitPolicy": "esriSPTDefaultValue"
   }
  },
  {
   "name": "WEBAPP",
   "type": "esriFieldTypeString",
   "alias": "WEBAPP",
   "domain": {
    "type": "codedValue",
    "name": "G_SI_NO_FLAG",
    "description": "Dominio esclusivo SI o NO",
    "codedValues": [
     {
      "name": "SI",
      "code": "1"
     },
     {
      "name": "NO",
      "code": "2"
     }
    ],
    "mergePolicy": "esriMPTDefaultValue",
    "splitPolicy": "esriSPTDefaultValue"
   },
   "length": 255
  },
  {
   "name": "MOS_RULE_COPY",
   "type": "esriFieldTypeString",
   "alias": "MOS_RULE_COPY",
   "domain": null,
   "length": 2000
  },
  {
   "name": "CODICE",
   "type": "esriFieldTypeString",
   "alias": "CODICE",
   "domain": null,
   "length": 50
  },
  {
   "name": "SHAPE",
   "type": "esriFieldTypeGeometry",
   "alias": "SHAPE",
   "domain": null
  },
  {
   "name": "SHAPE.AREA",
   "type": "esriFieldTypeDouble",
   "alias": "SHAPE.AREA",
   "domain": null
  },
  {
   "name": "SHAPE.LEN",
   "type": "esriFieldTypeDouble",
   "alias": "SHAPE.LEN",
   "domain": null
  }
 ],
 "capabilities": "Image,Metadata,Catalog,Mensuration",
 "defaultMosaicMethod": "Northwest",
 "allowedMosaicMethods": "NorthWest,Center,LockRaster,ByAttribute,Nadir,Viewpoint,Seamline,None",
 "sortField": "",
 "sortValue": null,
 "sortAscending": true,
 "mosaicOperator": "First",
 "maxDownloadSizeLimit": 2048,
 "defaultCompressionQuality": 75,
 "defaultResamplingMethod": "Nearest",
 "maxImageHeight": 4100,
 "maxImageWidth": 15000,
 "maxRecordCount": 1000,
 "maxDownloadImageCount": 20,
 "maxMosaicImageCount": 20,
 "allowRasterFunction": true,
 "rasterFunctionInfos": [
  {
   "name": "None",
   "description": "Make a Raster or Raster Dataset into a Function Raster Dataset.",
   "help": ""
  },
  {
   "name": "anom_frazNP_sce",
   "description": "Anomalia della frazione nene pioggia per i due scenari RCP 4.5 e 8.5",
   "help": ""
  },
  {
   "name": "anom_frost_days",
   "description": "Anomalia giorni di gelo TCP 4.5",
   "help": ""
  },
  {
   "name": "anom_giorni_prec",
   "description": "Anomalia del n. giorni piovosi RCP4.5",
   "help": ""
  },
  {
   "name": "anom_giorni_prec_rcp85",
   "description": "Anomalia del n. giorni piovosi RCP8.5",
   "help": ""
  },
  {
   "name": "anom_ind_voc_sce",
   "description": "Anomalia dell'indice di vocazionlita vitivinicola per i due scenari RCP 4.5 e 8.5",
   "help": ""
  },
  {
   "name": "anom_maxcdd",
   "description": "Anomalia massimo numero di giorni senza pioggia - RCP4.5",
   "help": ""
  },
  {
   "name": "anom_maxcdd_rcp85",
   "description": "Anomalia massimo numero di giorni senza pioggia - RCP8.5",
   "help": ""
  },
  {
   "name": "anom_perc_cdd_RCP",
   "description": "anomalia percentuale CDD entrambi gli scenari",
   "help": ""
  },
  {
   "name": "anom_perc_hdd_RCP",
   "description": "Anomalia percentuale HDD per entrambi gli scenari",
   "help": ""
  },
  {
   "name": "anom_perc_prec_1mm",
   "description": "Anomalia percentuale del numero di giorni piovosi 1 mm - RCP4.5",
   "help": ""
  },
  {
   "name": "anom_perc_prec_1mm_rcp85",
   "description": "Anomalia percentuale del numero di giorni piovosi, soglia 1mm . RCP8.5",
   "help": ""
  },
  {
   "name": "anom_perc_prec_20mm",
   "description": "Anomalia percentuale del numero di giorni piovosi soglia 20 mm RCP4.5",
   "help": ""
  },
  {
   "name": "anom_perc_prec_20mm_rcp85",
   "description": "Anomalia percentuale del numero giorni piovosi, soglia 20 mm - RCP8.5",
   "help": ""
  },
  {
   "name": "anom_perc_prec_30mm",
   "description": "Anomalia percentuale del numero di giorni piovosi soglia 30 mm RCP4.5",
   "help": ""
  },
  {
   "name": "anom_perc_prec_30mm_rcp85",
   "description": "Anomalia percentuale numero di giorni piovosi, soglia 30 mm - RCP8.5",
   "help": ""
  },
  {
   "name": "anom_prec_DJF",
   "description": "Anomalia della precipitazione cumalata media - Inverno DJF RCP4.5",
   "help": ""
  },
  {
   "name": "anom_prec_DJF_rcp85",
   "description": "Anomalia della precipitazione cumulata media - Inverno DJF RCP8.5",
   "help": ""
  },
  {
   "name": "anom_prec_JJA",
   "description": "Anomalia della precipitazione cumalata media - Estate JJA RCP4.5",
   "help": ""
  },
  {
   "name": "anom_prec_JJA_rcp85",
   "description": "Anomalia della precipitazione cumalata media - Estate JJA RCP8.5",
   "help": ""
  },
  {
   "name": "anom_prec_MAM",
   "description": "Anomalia della precipitazione cumalata media - Primavera MAM RCP4.5",
   "help": ""
  },
  {
   "name": "anom_prec_MAM_rcp85",
   "description": "Anomalia delle precipirazione cumulata media Primavera MAM RCP8.5",
   "help": ""
  },
  {
   "name": "anom_prec_SON",
   "description": "Anomalia della precipitazione cumalata media - Autunno SON RCP4.5",
   "help": ""
  },
  {
   "name": "anom_prec_SON_rcp85",
   "description": "Anomalia della precipitazione cumulata media Autunno SON RCP8.5",
   "help": ""
  },
  {
   "name": "anom_trop_days",
   "description": "Anomalia del numero di giorni tropicali per i due scenari rcp 8.5 e 4.5",
   "help": ""
  },
  {
   "name": "anom_trop_nights",
   "description": "Anomalia del numero di notti topicali per gli scenari 4.5 e 8.5",
   "help": ""
  },
  {
   "name": "anom_WSDI",
   "description": "Anomalia di numero di giorni in ondata di caldo (WSDI Warm Spell Duration Index) per RCP 4.5 e 8.5",
   "help": ""
  },
  {
   "name": "CDD",
   "description": "CDD - Gradi giorno di raffrescamento",
   "help": ""
  },
  {
   "name": "CompI",
   "description": "Indice vocazionalità vitivinicola - Osservazioni",
   "help": ""
  },
  {
   "name": "DYFFSS",
   "description": "DYFFSS - Primo giorno dell'anno coon assenza di gelo",
   "help": ""
  },
  {
   "name": "DYGSS",
   "description": "DYGSS - Giorno dell'anno con inizio della stagione vegetativa",
   "help": ""
  },
  {
   "name": "ET0",
   "description": "Evapotraspirazion epotenziale (osservazioni)",
   "help": ""
  },
  {
   "name": "ET0_anom",
   "description": "Anomalia percentuale evapotraspirazione di riferimento per scenari rcp 4.5 e 8.5",
   "help": ""
  },
  {
   "name": "FFSL",
   "description": "FFSL - Lunghezza media del periodo in assenza di gelo",
   "help": ""
  },
  {
   "name": "frazNP_oss",
   "description": "Frazione neve pioggia clima attuale (1981-2010)",
   "help": ""
  },
  {
   "name": "frazNP_sce",
   "description": "Frazione neve pioggia per i due scenari RCP4.5 e 8.5",
   "help": ""
  },
  {
   "name": "frost_days",
   "description": "Numero di giorni di gelo",
   "help": ""
  },
  {
   "name": "FWI_90",
   "description": "Indice FWI 90° percentile - RCP 4.5 e 8.5",
   "help": ""
  },
  {
   "name": "GDD",
   "description": "GDD - Somma termica o Growing degree days",
   "help": ""
  },
  {
   "name": "HDD",
   "description": "HDD - Gradi giorno di riscaldamento Heating Degrees Days",
   "help": ""
  },
  {
   "name": "ind_voc_viti_sce",
   "description": "Indice vocazionalità vitivinicola per i due scenari 4.5 e 8.5",
   "help": ""
  },
  {
   "name": "MAXCDD",
   "description": "Massimo numero di giorni consecutivi senza pioggia",
   "help": ""
  },
  {
   "name": "num_giorni_piovosi_1",
   "description": "Num. giorni piovosi soglia 1 mm (osservazioni)",
   "help": ""
  },
  {
   "name": "num_giorni_piovosi_5",
   "description": "Numero di giorni piovosi - Soglia 5 mm",
   "help": ""
  },
  {
   "name": "num_giorni_piovosi_5",
   "description": "Numero di giorni piovosi - Soglia 5 mm",
   "help": ""
  },
  {
   "name": "num_giorni_piovosi_10",
   "description": "Numero giorni piovosi con soglia 10 mm (osservazioni)",
   "help": ""
  },
  {
   "name": "num_giorni_piovosi_20",
   "description": "Numero giorni piovosi con soglia10 mm (osservazioni)",
   "help": ""
  },
  {
   "name": "num_giorni_piovosi_50",
   "description": "Nunero giorni piovosi con sogli a50 mm (osservazioni)",
   "help": ""
  },
  {
   "name": "num_giorni_piovosi_stag",
   "description": "Numero giorni piovosi stagionali con soglia 1 mm (osservazioni)",
   "help": ""
  },
  {
   "name": "prec_anno",
   "description": "Precipitazioni annuali (osservazioni)",
   "help": ""
  },
  {
   "name": "prec_mesi",
   "description": "Precipitazioni mensili (osservazioni)",
   "help": ""
  },
  {
   "name": "prec_stag",
   "description": "Precipitazioni stagionali (osservazioni)",
   "help": ""
  },
  {
   "name": "spei",
   "description": "Indice di evapotraspirazione delle precipitazioni (osservazioni)",
   "help": ""
  },
  {
   "name": "t_min_12_test",
   "description": "t minima test simbology classify ",
   "help": ""
  },
  {
   "name": "temp",
   "description": "temperature dra",
   "help": ""
  },
  {
   "name": "tendenze_test_dra",
   "description": "tendenze_test_dra",
   "help": ""
  },
  {
   "name": "TGSL",
   "description": "TGSL - Lunghezza della stagione di crescita - Growing Season",
   "help": ""
  },
  {
   "name": "tmax_anno_sce",
   "description": "Temperatura media massima annuale per i due scenari RCP4.5 e RCP8.5",
   "help": ""
  },
  {
   "name": "tmax_diff",
   "description": "Anomalia tmax annuale RCP4.5",
   "help": ""
  },
  {
   "name": "tmax_diff_DJF",
   "description": "Anomalia Tmax DJF",
   "help": ""
  },
  {
   "name": "tmax_diff_JJA",
   "description": "Anomalia Tmax JJA",
   "help": ""
  },
  {
   "name": "tmax_diff_MAM",
   "description": "Anomalia Tmax MAM",
   "help": ""
  },
  {
   "name": "tmax_diff_SON",
   "description": "Anomalia Tmax SON",
   "help": ""
  },
  {
   "name": "tmax_mesi_stag_anno",
   "description": "Tmax mesile, stagionale, annuale (osservazioni)",
   "help": ""
  },
  {
   "name": "tmax_stag_sce",
   "description": "Temperature media massime stagionali per i due scenari RCP4.5 e RCP8.5",
   "help": ""
  },
  {
   "name": "tmin_anno_sce",
   "description": "Temperatura minima media annuale per i due scenari RCP4.5 e RCP8.5",
   "help": ""
  },
  {
   "name": "tmin_diff_anno",
   "description": "Anomalia della temperatura minima annuale RCP 4.5",
   "help": ""
  },
  {
   "name": "tmin_diff_DJF",
   "description": "Anomalia tmin DJF",
   "help": ""
  },
  {
   "name": "tmin_diff_JJA",
   "description": "Anomalia Tmin JJA",
   "help": ""
  },
  {
   "name": "tmin_diff_MAM",
   "description": "Anomalia Tmin MAM",
   "help": ""
  },
  {
   "name": "tmin_diff_SON",
   "description": "Anomalia Tmin SON",
   "help": ""
  },
  {
   "name": "tmin_DJF",
   "description": "T min DJF",
   "help": ""
  },
  {
   "name": "tmin_JJA",
   "description": "T min JJA",
   "help": ""
  },
  {
   "name": "tmin_MAM",
   "description": "T min MAM",
   "help": ""
  },
  {
   "name": "tmin_max_diff_anno_stag_sce",
   "description": "Anomalia delle temperature minime e massime per anni e stagioni e per entrambi gli scenari RCP4.5 e RCP8.5",
   "help": ""
  },
  {
   "name": "tmin_mesi_stag_anno",
   "description": "Tmin mensile, stagionale, annuale (osservazioni)",
   "help": ""
  },
  {
   "name": "tmin_SON",
   "description": "T min SON",
   "help": ""
  },
  {
   "name": "tmin_stag_sce",
   "description": "Temperatura minima media stagionali per i due scenari RCP4.5 e RCP8.5",
   "help": ""
  },
  {
   "name": "trend_cdd",
   "description": "Andamento indice CDD - Gradi giorno raffrescamento",
   "help": ""
  },
  {
   "name": "trend_CompI",
   "description": "Trend Indice vocazionalità vitivinicola",
   "help": ""
  },
  {
   "name": "trend_dyffss",
   "description": "Tendenza primo giorno anno con assenza di gelo",
   "help": ""
  },
  {
   "name": "trend_dygss",
   "description": "Trend primo giorno dell'anno della stagione di cescita",
   "help": ""
  },
  {
   "name": "trend_et0_sign",
   "description": "Trend dell'evapotraspirazione potenziale (PET)",
   "help": ""
  },
  {
   "name": "trend_ffsl",
   "description": "Trend della lunghezza media del periodo in assenza di gelo",
   "help": ""
  },
  {
   "name": "trend_frazNP",
   "description": "Trend frazione neve/pioggia",
   "help": ""
  },
  {
   "name": "trend_frost_days",
   "description": "Trend numero giorni di gelo",
   "help": ""
  },
  {
   "name": "trend_gdd",
   "description": "Trend della somma termica GDD",
   "help": ""
  },
  {
   "name": "trend_giorni_piov",
   "description": "Trend giorni piovosi - Tutte le soglie",
   "help": ""
  },
  {
   "name": "trend_hdd",
   "description": "trend gradi giorno di riscaldamento",
   "help": ""
  },
  {
   "name": "trend_prec",
