{ "currentVersion": 10.81, "cimVersion": "2.6.0", "serviceDescription": "

Il dataset costituisce un mosaico di immagini acquisite dal satellite Sentinel 2A (programma europeo Copernicus) durante l'autunno del 2016. Le immagini sono opportunamente mosaicate a copertura dei territori piemontese, ligure e valdostano secondo una serie di 9 tiles e sono pubblicate in colori naturali: bande 4 (rosso), 3 (verde) e 2 (blu) del sensore MSI (13 canali nel visibile/infrarosso VNIR). Data delle acquisizioni: 02 settembre per i tiles TLQ - TLR 09 settembre per i tiles TMP 29 settembre per i tiles TLP - TLQ - TLR - TMQ - TMR - TMS - TNQ - TNP Il mosaico è stato realizzato da Arpa Piemonte nell'ambito delle attività connesse al progetto nazionale di Monitoraggio del Consumo di suolo 2016 condotto dal Sistema Nazionale per la Protezione Ambientale (SNPA) attraverso il coordinamento di ISPRA e il coinvolgimento di diverse Agenzie regionali. Il progetto si pone l'obiettivo di monitorare le trasformazioni del territorio dovute a espansioni urbane, infrastrutturali, commerciali, ecc. con la conseguente perdita di suolo naturale, agricolo e semi naturale, inteso come risorsa ambientale essenziale e fondamentalmente non rinnovabile. La metodologia di analisi si avvale, per la prima volta su scala nazionale in modo unitario ed omogeneo, delle nuove immagini Sentinel 2A/B che, dato il loro livello di dettaglio e la frequenza di rivisitazione garantita dalla missione Sentinel, consentono di ottenere visioni d¿insieme del territorio nazionale in maniera periodica e costante (analisi multi temporale). Il confronto tra queste consente di evidenziare le principali trasformazioni del territorio e i relativi fenomeni di consumo di suolo (espansione insediamenti urbani, nuova viabilità, cantieristica per nuove opere, ecc.).<\/SPAN><\/P>
<\/P>
Per la descrizione completa si rimanda<\/SPAN> alla <\/SPAN> <\/SPAN>scheda metadati<\/SPAN><\/A>.<\/SPAN><\/P>
<\/P>
Il servizio è disponibile in modalità <\/SPAN>OGC<\/SPAN> - WMTS al seguente indirizzo:<\/SPAN><\/P>
https://webgis.arpa.piemonte.it/ags/rest/services/topografia_dati_di_base/Sentinel_2_2016_<\/SPAN>Autunno<\/SPAN>/MapServer/WMTS/1.0.0/WMTSCapabilities.xml<\/SPAN><\/A><\/P>
Per ulteriori informazioni si rimanda al sito <\/SPAN>https://scihub.copernicus.eu/<\/SPAN><\/A><\/P>
<\/P><\/DIV><\/DIV><\/DIV><\/DIV>", "mapName": "Sentinel_2_2016_Autunno", "description": "

Il dataset costituisce un mosaico di immagini acquisite dal satellite Sentinel 2A (programma europeo Copernicus) durante l'autunno del 2016. Le immagini sono opportunamente mosaicate a copertura dei territori piemontese, ligure e valdostano secondo una serie di 9 tiles e sono pubblicate in colori naturali: bande 4 (rosso), 3 (verde) e 2 (blu) del sensore MSI (13 canali nel visibile/infrarosso VNIR). Data delle acquisizioni: 02 settembre per i tiles TLQ - TLR 09 settembre per i tiles TMP 29 settembre per i tiles TLP - TLQ - TLR - TMQ - TMR - TMS - TNQ - TNP Il mosaico è stato realizzato da Arpa Piemonte nell'ambito delle attività connesse al progetto nazionale di Monitoraggio del Consumo di suolo 2016 condotto dal Sistema Nazionale per la Protezione Ambientale (SNPA) attraverso il coordinamento di ISPRA e il coinvolgimento di diverse Agenzie regionali. Il progetto si pone l'obiettivo di monitorare le trasformazioni del territorio dovute a espansioni urbane, infrastrutturali, commerciali, ecc. con la conseguente perdita di suolo naturale, agricolo e semi naturale, inteso come risorsa ambientale essenziale e fondamentalmente non rinnovabile. La metodologia di analisi si avvale, per la prima volta su scala nazionale in modo unitario ed omogeneo, delle nuove immagini Sentinel 2A/B che, dato il loro livello di dettaglio e la frequenza di rivisitazione garantita dalla missione Sentinel, consentono di ottenere visioni d¿insieme del territorio nazionale in maniera periodica e costante (analisi multi temporale). Il confronto tra queste consente di evidenziare le principali trasformazioni del territorio e i relativi fenomeni di consumo di suolo (espansione insediamenti urbani, nuova viabilità, cantieristica per nuove opere, ecc.).<\/SPAN><\/P>
<\/P>
Per la descrizione completa si rimanda<\/SPAN> alla <\/SPAN> <\/SPAN>scheda metadati<\/SPAN><\/A>.<\/SPAN><\/P>
<\/P>
Il servizio è disponibile in modalità <\/SPAN>OGC<\/SPAN> - WMTS al seguente indirizzo:<\/SPAN><\/P>
https://webgis.arpa.piemonte.it/ags/rest/services/topografia_dati_di_base/Sentinel_2_2016_<\/SPAN>Autunno<\/SPAN>/MapServer/WMTS/1.0.0/WMTSCapabilities.xml<\/SPAN><\/A><\/P>
Per ulteriori informazioni si rimanda al sito <\/SPAN>https://scihub.copernicus.eu/<\/SPAN><\/A><\/P>
<\/P><\/DIV><\/DIV><\/DIV><\/DIV>", "copyrightText": "Copernicus Sentinel Data - This service contains modified Copernicus Sentinel data (years: 2016)", "supportsDynamicLayers": true, "layers": [ { "id": 0, "name": "Sentinel_2_2016_Autunno", "parentLayerId": -1, "defaultVisibility": true, "subLayerIds": null, "minScale": 0, "maxScale": 0, "type": "Feature Layer", "geometryType": "esriGeometryPolygon", "supportsDynamicLegends": true } ], "tables": [], "spatialReference": { "wkid": 102100, "latestWkid": 3857, "xyTolerance": 0.001, "zTolerance": 0.001, "mTolerance": 0.001, "falseX": -20037700, "falseY": -30241100, "xyUnits": 10000, "falseZ": -100000, "zUnits": 10000, "falseM": -100000, "mUnits": 10000 }, "singleFusedMapCache": true, "tileInfo": { "rows": 256, "cols": 256, "dpi": 96, "format": "PNG32", "compressionQuality": 0, "origin": { "x": -2.0037508342787E7, "y": 2.0037508342787E7 }, "spatialReference": { "wkid": 102100, "latestWkid": 3857, "xyTolerance": 0.001, "zTolerance": 0.001, "mTolerance": 0.001, "falseX": -20037700, "falseY": -30241100, "xyUnits": 10000, "falseZ": -100000, "zUnits": 10000, "falseM": -100000, "mUnits": 10000 }, "lods": [ { "level": 0, "resolution": 156543.03392800014, "scale": 5.91657527591555E8 }, { "level": 1, "resolution": 78271.51696399994, "scale": 2.95828763795777E8 }, { "level": 2, "resolution": 39135.75848200009, "scale": 1.47914381897889E8 }, { "level": 3, "resolution": 19567.87924099992, "scale": 7.3957190948944E7 }, { "level": 4, "resolution": 9783.93962049996, "scale": 3.6978595474472E7 }, { "level": 5, "resolution": 4891.96981024998, "scale": 1.8489297737236E7 }, { "level": 6, "resolution": 2445.98490512499, "scale": 9244648.868618 }, { "level": 7, "resolution": 1222.992452562495, "scale": 4622324.434309 }, { "level": 8, "resolution": 611.4962262813797, "scale": 2311162.217155 }, { "level": 9, "resolution": 305.74811314055756, "scale": 1155581.108577 }, { "level": 10, "resolution": 152.87405657041106, "scale": 577790.554289 }, { "level": 11, "resolution": 76.43702828507324, "scale": 288895.277144 }, { "level": 12, "resolution": 38.21851414253662, "scale": 144447.638572 }, { "level": 13, "resolution": 19.10925707126831, "scale": 72223.819286 }, { "level": 14, "resolution": 9.554628535634155, "scale": 36111.909643 }, { "level": 15, "resolution": 4.77731426794937, "scale": 18055.954822 }, { "level": 16, "resolution": 2.388657133974685, "scale": 9027.977411 }, { "level": 17, "resolution": 1.1943285668550503, "scale": 4513.988705 }, { "level": 18, "resolution": 0.5971642835598172, "scale": 2256.994353 }, { "level": 19, "resolution": 0.29858214164761665, "scale": 1128.497176 }, { "level": 20, "resolution": 0.14929107082380833, "scale": 564.248588 }, { "level": 21, "resolution": 0.07464553541190416, "scale": 282.124294 }, { "level": 22, "resolution": 0.03732276770595208, "scale": 141.062147 }, { "level": 23, "resolution": 0.01866138385297604, "scale": 70.5310735 } ] }, "initialExtent": { "xmin": 561337.0422730327, "ymin": 5643335.8189487625, "xmax": 1271726.7504472637, "ymax": 5667902.610009544, "spatialReference": { "wkid": 102100, "latestWkid": 3857, "xyTolerance": 0.001, "zTolerance": 0.001, "mTolerance": 0.001, "falseX": -20037700, "falseY": -30241100, "xyUnits": 10000, "falseZ": -100000, "zUnits": 10000, "falseM": -100000, "mUnits": 10000 } }, "fullExtent": { "xmin": 731283.9498263379, "ymin": 5472162.248276561, "xmax": 1026466.9708576723, "ymax": 5855314.16724881, "spatialReference": { "wkid": 102100, "latestWkid": 3857, "xyTolerance": 0.001, "zTolerance": 0.001, "mTolerance": 0.001, "falseX": -20037700, "falseY": -30241100, "xyUnits": 10000, "falseZ": -100000, "zUnits": 10000, "falseM": -100000, "mUnits": 10000 } }, "minScale": 5.91657527591555E8, "maxScale": 70.5310735, "units": "esriMeters", "supportedImageFormatTypes": "PNG32,PNG24,PNG,JPG,DIB,TIFF,EMF,PS,PDF,GIF,SVG,SVGZ,BMP", "documentInfo": { "Title": "Sentinel_2_2016_Autunno", "Author": "", "Comments": "

Il dataset costituisce un mosaico di immagini acquisite dal satellite Sentinel 2A (programma europeo Copernicus) durante l'autunno del 2016. Le immagini sono opportunamente mosaicate a copertura dei territori piemontese, ligure e valdostano secondo una serie di 9 tiles e sono pubblicate in colori naturali: bande 4 (rosso), 3 (verde) e 2 (blu) del sensore MSI (13 canali nel visibile/infrarosso VNIR). Data delle acquisizioni: 02 settembre per i tiles TLQ - TLR 09 settembre per i tiles TMP 29 settembre per i tiles TLP - TLQ - TLR - TMQ - TMR - TMS - TNQ - TNP Il mosaico è stato realizzato da Arpa Piemonte nell'ambito delle attività connesse al progetto nazionale di Monitoraggio del Consumo di suolo 2016 condotto dal Sistema Nazionale per la Protezione Ambientale (SNPA) attraverso il coordinamento di ISPRA e il coinvolgimento di diverse Agenzie regionali. Il progetto si pone l'obiettivo di monitorare le trasformazioni del territorio dovute a espansioni urbane, infrastrutturali, commerciali, ecc. con la conseguente perdita di suolo naturale, agricolo e semi naturale, inteso come risorsa ambientale essenziale e fondamentalmente non rinnovabile. La metodologia di analisi si avvale, per la prima volta su scala nazionale in modo unitario ed omogeneo, delle nuove immagini Sentinel 2A/B che, dato il loro livello di dettaglio e la frequenza di rivisitazione garantita dalla missione Sentinel, consentono di ottenere visioni d¿insieme del territorio nazionale in maniera periodica e costante (analisi multi temporale). Il confronto tra queste consente di evidenziare le principali trasformazioni del territorio e i relativi fenomeni di consumo di suolo (espansione insediamenti urbani, nuova viabilità, cantieristica per nuove opere, ecc.).<\/SPAN><\/P>
<\/P>
Per la descrizione completa si rimanda<\/SPAN> alla <\/SPAN> <\/SPAN>scheda metadati<\/SPAN><\/A>.<\/SPAN><\/P>
<\/P>
Il servizio è disponibile in modalità <\/SPAN>OGC<\/SPAN> - WMTS al seguente indirizzo:<\/SPAN><\/P>
https://webgis.arpa.piemonte.it/ags/rest/services/topografia_dati_di_base/Sentinel_2_2016_<\/SPAN>Autunno<\/SPAN>/MapServer/WMTS/1.0.0/WMTSCapabilities.xml<\/SPAN><\/A><\/P>
Per ulteriori informazioni si rimanda al sito <\/SPAN>https://scihub.copernicus.eu/<\/SPAN><\/A><\/P>
<\/P><\/DIV><\/DIV><\/DIV><\/DIV>", "Subject": "Sentinel 2 2016 Autunno", "Category": "", "AntialiasingMode": "Fast", "TextAntialiasingMode": "Force", "Keywords": "Sentinel,Copernicus,telerilevamento,immagini satellitari,Piemonte,2016,consumo di suolo,_topografia_dati_di_base,_OGC-WMTS" }, "capabilities": "Map,Query,Data", "supportedQueryFormats": "JSON, geoJSON, PBF", "exportTilesAllowed": false, "referenceScale": 0.0, "supportsDatumTransformation": true, "archivingInfo": {"supportsHistoricMoment": false}, "supportsClipping": true, "supportsSpatialFilter": true, "supportsQueryDataElements": true, "maxRecordCount": 2000, "maxImageHeight": 4096, "maxImageWidth": 4096, "supportedExtensions": "", "resampling": true, "serviceItemId": "0ef4e7d2bd7a4556bdf8a3baec570253" }