View In:
ArcGIS JavaScript
ArcGIS.com Map
ArcGIS Earth
ArcMap
ArcGIS Pro
View Footprint In:
ArcGIS.com Map
Service Description:
Map Name: Layers
Legend
All Layers and Tables
Dynamic Legend
Dynamic All Layers
Layers:
Description:
Copyright Text:
Spatial Reference:
102100
(3857)
Single Fused Map Cache: true
Tile Info:
- Height: 256
- Width: 256
- DPI: 96
-
Levels of Detail: 20
-
Level ID: 0
[ Start Tile, End Tile ]
- Resolution: 156543.03392800014
- Scale: 5.91657527591555E8
-
Level ID: 1
[ Start Tile, End Tile ]
- Resolution: 78271.51696399994
- Scale: 2.95828763795777E8
-
Level ID: 2
[ Start Tile, End Tile ]
- Resolution: 39135.75848200009
- Scale: 1.47914381897889E8
-
Level ID: 3
[ Start Tile, End Tile ]
- Resolution: 19567.87924099992
- Scale: 7.3957190948944E7
-
Level ID: 4
[ Start Tile, End Tile ]
- Resolution: 9783.93962049996
- Scale: 3.6978595474472E7
-
Level ID: 5
[ Start Tile, End Tile ]
- Resolution: 4891.96981024998
- Scale: 1.8489297737236E7
- Format: PNG32
- Compression Quality: 0.0
- Origin: X: -2.0037508342787E7
Y: 2.0037508342787E7
- Spatial Reference: 102100
(3857)
Initial Extent:
XMin: 716524.7987747713
YMin: 5566904.6913456805
XMax: 1041226.1219092392
YMax: 6011102.694313899
Spatial Reference: 102100
Full Extent:
XMin: 731283.9498263379
YMin: 5472162.248276561
XMax: 1026466.9708576723
YMax: 5855314.16724881
Spatial Reference: 102100
Units: esriMeters
Supported Image Format Types: PNG32,PNG24,PNG,JPG,DIB,TIFF,EMF,PS,PDF,GIF,SVG,SVGZ,BMP
Document Info:
Title:
Author:
Comments:
Subject:
Category:
Keywords:
AntialiasingMode: None
TextAntialiasingMode: Force
Supports Dynamic Layers: true
Resampling: true
MaxRecordCount: 1000
MaxImageHeight: 4096
MaxImageWidth: 4096
Supported Query Formats: JSON, geoJSON
Min Scale: 5.91657527591555E8
Max Scale: 1128.497176
Supports Datum Transformation: true
Child Resources:
Info
Dynamic Layer
Supported Operations:
Export Map
Identify
QueryDomains
QueryLegends
Find
Return Updates