View In:
ArcGIS JavaScript
ArcGIS.com Map
ArcGIS Earth
ArcMap
View Footprint In:
ArcGIS.com Map
Service Description: Base topografica per la rappresentazione dei temi geoambientali in formato raster alla scala 1 :250.000. La cartografia è stata prodotta da Arpa Piemonte (Sistema Informativo Geografico)nel periodo 2009-2010, con l'obiettivo di realizzare una base topografica a scala regionale utile alla rappresentazione e produzione di cartografia geotematica dell'Agenzia. La cartografia in versione 'sfumo' si compone di più livelli informativi (idrografia, viabilità, edificato, altimetria, toponomastica) con sfondo del rilievo altimetrico a 'sfumo' prodotto tramite ombreggiatura virtuale del modello digitale del terreno.
Name: topografia_dati_di_base/Topografica_Base_250K_Sfumo_Arpa_Piemonte
Description: Base topografica per la rappresentazione dei temi geoambientali in formato raster alla scala 1 :250.000. La cartografia è stata prodotta da Arpa Piemonte (Sistema Informativo Geografico)nel periodo 2009-2010, con l'obiettivo di realizzare una base topografica a scala regionale utile alla rappresentazione e produzione di cartografia geotematica dell'Agenzia. La cartografia in versione 'sfumo' si compone di più livelli informativi (idrografia, viabilità, edificato, altimetria, toponomastica) con sfondo del rilievo altimetrico a 'sfumo' prodotto tramite ombreggiatura virtuale del modello digitale del terreno.
Single Fused Map Cache: false
Extent:
XMin: 307170.68907114107
YMin: 4877498.166141579
XMax: 523490.06937864795
YMax: 5152716.447828141
Spatial Reference: 32632
(32632)
Initial Extent:
XMin: 307170.68907114107
YMin: 4877498.166141579
XMax: 523490.06937864795
YMax: 5152716.447828141
Spatial Reference: 32632
(32632)
Full Extent:
XMin: 307170.68907114107
YMin: 4877498.166141579
XMax: 523490.06937864795
YMax: 5152716.447828141
Spatial Reference: 32632
(32632)
Pixel Size X: 12.161656283100404
Pixel Size Y: 12.161656283100402
Band Count: 3
Pixel Type: U8
RasterFunction Infos: {"rasterFunctionInfos": [{
"name": "None",
"description": "",
"help": ""
}]}
Mensuration Capabilities: None
Has Histograms: true
Has Colormap: false
Has Multi Dimensions : false
Rendering Rule:
Min Scale: 0
Max Scale: 0
Copyright Text: Arpa Piemonte
Service Data Type: esriImageServiceDataTypeRGB
Min Values: 2, 2, 2
Max Values: 255, 255, 255
Mean Values: 206.02389405315463, 207.64666743547184, 207.42634812047726
Standard Deviation Values: 32.42468334505553, 32.82083021635114, 33.979660865105274
Object ID Field: OBJECTID
Fields:
-
OBJECTID
(
type: esriFieldTypeOID, alias: OBJECTID
)
-
Shape
(
type: esriFieldTypeGeometry, alias: Shape
)
-
Name
(
type: esriFieldTypeString, alias: Name, length: 50
)
-
MinPS
(
type: esriFieldTypeDouble, alias: MinPS
)
-
MaxPS
(
type: esriFieldTypeDouble, alias: MaxPS
)
-
LowPS
(
type: esriFieldTypeDouble, alias: LowPS
)
-
HighPS
(
type: esriFieldTypeDouble, alias: HighPS
)
-
Category
(
type: esriFieldTypeInteger, alias: Category
, Coded Values:
[0: Unknown]
, [1: Primary]
, [2: Overview]
, ...5 more...
)
-
Tag
(
type: esriFieldTypeString, alias: Tag, length: 20
)
-
GroupName
(
type: esriFieldTypeString, alias: GroupName, length: 50
)
-
ProductName
(
type: esriFieldTypeString, alias: ProductName, length: 50
)
-
CenterX
(
type: esriFieldTypeDouble, alias: CenterX
)
-
CenterY
(
type: esriFieldTypeDouble, alias: CenterY
)
-
ZOrder
(
type: esriFieldTypeInteger, alias: ZOrder
)
-
Shape_Length
(
type: esriFieldTypeDouble, alias: Shape_Length
)
-
Shape_Area
(
type: esriFieldTypeDouble, alias: Shape_Area
)
Default Mosaic Method: Northwest
Allowed Mosaic Methods: NorthWest,Center,LockRaster,ByAttribute,Nadir,Viewpoint,Seamline,None
SortField:
SortValue: null
Mosaic Operator: First
Default Compression Quality: 75
Default Resampling Method: Bilinear
Max Record Count: 1000
Max Image Height: 4100
Max Image Width: 15000
Max Download Image Count: 20
Max Mosaic Image Count: 20
Allow Raster Function: true
Allow Compute TiePoints: false
Supports Statistics: true
Supports Advanced Queries: true
Use StandardizedQueries: true
Raster Type Infos:
Name: Raster Dataset
Description: Supports all ArcGIS Raster Datasets
Help:
Has Raster Attribute Table: false
Edit Fields Info: null
Ownership Based AccessControl For Rasters: null
Child Resources:
Info
Histograms
Key Properties
Legend
MultiDimensionalInfo
rasterFunctionInfos
Supported Operations:
Export Image
Query
Identify
Compute Histograms
Compute Statistics Histograms
Get Samples
Compute Class Statistics
Query Boundary
Compute Pixel Location