{ "currentVersion": 11.5, "serviceDescription": "Valutazione speditiva dell\u2019esposizione ai fenomeni di versate per strutture e infrastrutture tramite l\u2019applicazione dell\u2019Indice di Connettività a scala regionale.

Al fine di ottenere una prima e speditiva valutazione\ndell\u2019esposizione all\u2019azione dei fenomeni di versante di strutture e\ninfrastrutture a scala regionale, la Struttura Semplice Geologia e Nivologia\ndel Dipartimento Rischi Naturali e Ambientali di Arpa Piemonte ha realizzato\nuna mappa di grado di connessione morfologica tra i diversi settori dei versanti\nalpini e i target antropici di principale interesse strategico e di salvaguardia.<\/p>\n\n

L'analisi della connettività è stata eseguita per\ncaratterizzare e identificare le potenziali aree sorgenti di materiale\nmobilizzabile ad opera di fenomeni di versante, concentrandosi sulla loro effettiva\nconnessione morfologica e topografica con viabilità principale e aree\ndensamente urbanizzate.<\/p>
<\/div>
Per la descrizione completa si rimanda alla <\/span>scheda metadati<\/a>.<\/span><\/div><\/div>", "serviceItemId": "53971f3645a243848227abf191b87e23", "name": "rischi_naturali/connettivita", "description": "", "extent": { "xmin": 313291.73230172973, "ymin": 4879333.943018571, "xmax": 516961.73230172973, "ymax": 5145773.943018571, "spatialReference": { "wkid": 32632, "latestWkid": 32632 } }, "initialExtent": { "xmin": 313291.73230172973, "ymin": 4879333.943018571, "xmax": 516961.73230172973, "ymax": 5145773.943018571, "spatialReference": { "wkid": 32632, "latestWkid": 32632 } }, "fullExtent": { "xmin": 313291.73230172973, "ymin": 4879333.943018571, "xmax": 516961.73230172973, "ymax": 5145773.943018571, "spatialReference": { "wkid": 32632, "latestWkid": 32632 } }, "sortableFields": "MinPS,MaxPS,LowPS,HighPS,CenterX,CenterY,ZOrder,Shape_Length,Shape_Area", "bandCount": 1, "pixelType": "U8", "minValues": [ -127.2509765625 ], "maxValues": [ 254.7509765625 ], "meanValues": [ 14.588914339347877 ], "stdvValues": [ 35.26283979908998 ], "serviceProperties": "NorthWest<\/MosaicMethod>First<\/MosaicOperator>true<\/SortAscending><\/LockImageID>Name<\/TileOrderField>0<\/TileOrderBase>600.000000<\/AvgImageSpacingX>300.000000<\/AvgImageSpacingY>0.0<\/ViewPointX>0.0<\/ViewPointY>0.0<\/ViewPointDefShiftX>0.0<\/ViewPointDefShiftY>LZ77<\/CompressionMethod>75<\/CompressionQuality>0.010000<\/CompressionTolerance>Nearest<\/SamplingMethod><\/ImageServiceProperties><\/ImageServer>", "allowedFields": "Name,MinPS,MaxPS,LowPS,HighPS,Tag,GroupName,ProductName,CenterX,CenterY,ZOrder,Shape_Length,Shape_Area", "hasMultidimensions": false, "pixelSizeX": 5, "pixelSizeY": 5, "meanPixelSize": 5, "datasetFormat": "AMD", "uncompressedSize": 2170633392, "blockWidth": 2048, "blockHeight": 256, "compressionType": "None", "bandNames": [ "Band_1" ], "allowCopy": true, "allowAnalysis": true, "itemAccess": false, "inspectionCapabilities": "", "minPixelSize": 0, "maxPixelSize": 0, "copyrightText": "Arpa Piemonte", "serviceDataType": "esriImageServiceDataTypeThematic", "serviceSourceType": "esriImageServiceSourceTypeMosaicDataset", "objectIdField": "OBJECTID", "fields": [ { "name": "OBJECTID", "type": "esriFieldTypeOID", "alias": "OBJECTID", "domain": null }, { "name": "Shape", "type": "esriFieldTypeGeometry", "alias": "Shape", "domain": null }, { "name": "Name", "type": "esriFieldTypeString", "alias": "Name", "domain": null, "length": 200 }, { "name": "MinPS", "type": "esriFieldTypeDouble", "alias": "MinPS", "domain": null }, { "name": "MaxPS", "type": "esriFieldTypeDouble", "alias": "MaxPS", "domain": null }, { "name": "LowPS", "type": "esriFieldTypeDouble", "alias": "LowPS", "domain": null }, { "name": "HighPS", "type": "esriFieldTypeDouble", "alias": "HighPS", "domain": null }, { "name": "Category", "type": "esriFieldTypeInteger", "alias": "Category", "domain": { "type": "codedValue", "name": "MosaicCatalogItemCategoryDomain", "description": "Catalog item categories.", "codedValues": [ { "name": "Unknown", "code": 0 }, { "name": "Primary", "code": 1 }, { "name": "Overview", "code": 2 }, { "name": "Unprocessed Overview", "code": 3 }, { "name": "Partial Overview", "code": 4 }, { "name": "Inactive", "code": 5 }, { "name": "Uploaded", "code": 253 }, { "name": "Incomplete", "code": 254 }, { "name": "Custom", "code": 255 } ], "mergePolicy": "esriMPTDefaultValue", "splitPolicy": "esriSPTDefaultValue" } }, { "name": "Tag", "type": "esriFieldTypeString", "alias": "Tag", "domain": null, "length": 100 }, { "name": "GroupName", "type": "esriFieldTypeString", "alias": "GroupName", "domain": null, "length": 100 }, { "name": "ProductName", "type": "esriFieldTypeString", "alias": "ProductName", "domain": null, "length": 100 }, { "name": "CenterX", "type": "esriFieldTypeDouble", "alias": "CenterX", "domain": null }, { "name": "CenterY", "type": "esriFieldTypeDouble", "alias": "CenterY", "domain": null }, { "name": "ZOrder", "type": "esriFieldTypeInteger", "alias": "ZOrder", "domain": null }, { "name": "Shape_Length", "type": "esriFieldTypeDouble", "alias": "Shape_Length", "domain": null }, { "name": "Shape_Area", "type": "esriFieldTypeDouble", "alias": "Shape_Area", "domain": null } ], "capabilities": "Catalog,Mensuration,Image,Metadata", "defaultMosaicMethod": "Northwest", "allowedMosaicMethods": "NorthWest,Center,LockRaster,ByAttribute,Nadir,Viewpoint,Seamline,None", "sortField": "", "sortValue": null, "sortAscending": true, "mosaicOperator": "First", "maxDownloadSizeLimit": 2048, "defaultCompressionQuality": 75, "defaultResamplingMethod": "Nearest", "maxImageHeight": 4100, "maxImageWidth": 15000, "maxRecordCount": 1000, "maxDownloadImageCount": 20, "maxMosaicImageCount": 20, "allowRasterFunction": true, "rasterFunctionInfos": [ { "name": "connettivita_rft_v202602023", "description": "A raster function template for connettivita (con edificato)", "help": "" }, { "name": "None", "description": "Make a Raster or Raster Dataset into a Function Raster Dataset.", "help": "" } ], "rasterTypeInfos": [ { "name": "Raster Dataset", "description": "Supports all ArcGIS Raster Datasets", "help": "" } ], "mensurationCapabilities": "Basic", "hasHistograms": true, "hasColormap": false, "hasRasterAttributeTable": false, "minScale": 0, "maxScale": 0, "exportTilesAllowed": false, "supportsStatistics": true, "supportsAdvancedQueries": true, "editFieldsInfo": null, "ownershipBasedAccessControlForRasters": null, "allowComputeTiePoints": false, "useStandardizedQueries": true, "advancedQueryCapabilities": { "useStandardizedQueries": true, "supportsStatistics": true, "supportsOrderBy": true, "supportsDistinct": true, "supportsPagination": true }, "spatialReference": { "wkid": 32632, "latestWkid": 32632 } }