View In:
ArcGIS JavaScript
ArcGIS Online Map Viewer
ArcGIS Earth
ArcMap
View Footprint In:
ArcGIS Online Map Viewer
Service Description: meteorologia_clima/METEOGIS_CAMBIA_CLIMA_D10
Name: meteorologia_clima/METEOGIS_CAMBIA_CLIMA_D10
Description:
Single Fused Map Cache: false
Extent:
XMin: 736729.3711938239
YMin: 5473947.4275624845
XMax: 1026584.0844873479
YMax: 5856070.18816756
Spatial Reference: 102100
(3857)
Initial Extent:
XMin: 736729.3711938239
YMin: 5473947.4275624845
XMax: 1026584.0844873479
YMax: 5856070.18816756
Spatial Reference: 102100
(3857)
Full Extent:
XMin: 736729.3711938239
YMin: 5473947.4275624845
XMax: 1026584.0844873479
YMax: 5856070.18816756
Spatial Reference: 102100
(3857)
Pixel Size X: 50.780433303
Pixel Size Y: 50.78043330300005
Band Count: 1
Pixel Type: F64
RasterFunction Infos: {"rasterFunctionInfos": [
{
"name": "None",
"description": "Make a Raster or Raster Dataset into a Function Raster Dataset.",
"help": ""
},
{
"name": "anom_frazNP_sce",
"description": "Anomalia della frazione nene pioggia per i due scenari RCP 4.5 e 8.5",
"help": ""
},
{
"name": "anom_frost_days",
"description": "Anomalia giorni di gelo TCP 4.5",
"help": ""
},
{
"name": "anom_giorni_prec",
"description": "Anomalia del n. giorni piovosi RCP4.5",
"help": ""
},
{
"name": "anom_giorni_prec_rcp85",
"description": "Anomalia del n. giorni piovosi RCP8.5",
"help": ""
},
{
"name": "anom_ind_voc_sce",
"description": "Anomalia dell'indice di vocazionlita vitivinicola per i due scenari RCP 4.5 e 8.5",
"help": ""
},
{
"name": "anom_maxcdd",
"description": "Anomalia massimo numero di giorni senza pioggia - RCP4.5",
"help": ""
},
{
"name": "anom_maxcdd_rcp85",
"description": "Anomalia massimo numero di giorni senza pioggia - RCP8.5",
"help": ""
},
{
"name": "anom_perc_cdd_RCP",
"description": "anomalia percentuale CDD entrambi gli scenari",
"help": ""
},
{
"name": "anom_perc_hdd_RCP",
"description": "Anomalia percentuale HDD per entrambi gli scenari",
"help": ""
},
{
"name": "anom_prec_DJF",
"description": "Anomalia della precipitazione cumalata media - Inverno DJF RCP4.5",
"help": ""
},
{
"name": "anom_prec_DJF_rcp85",
"description": "Anomalia della precipitazione cumulata media - Inverno DJF RCP8.5",
"help": ""
},
{
"name": "anom_prec_JJA",
"description": "Anomalia della precipitazione cumalata media - Estate JJA RCP4.5",
"help": ""
},
{
"name": "anom_prec_JJA_rcp85",
"description": "Anomalia della precipitazione cumalata media - Estate JJA RCP8.5",
"help": ""
},
{
"name": "anom_prec_MAM",
"description": "Anomalia della precipitazione cumalata media - Primavera MAM RCP4.5",
"help": ""
},
{
"name": "anom_prec_MAM_rcp85",
"description": "Anomalia delle precipirazione cumulata media Primavera MAM RCP8.5",
"help": ""
},
{
"name": "anom_prec_SON",
"description": "Anomalia della precipitazione cumalata media - Autunno SON RCP4.5",
"help": ""
},
{
"name": "anom_prec_SON_rcp85",
"description": "Anomalia della precipitazione cumulata media Autunno SON RCP8.5",
"help": ""
},
{
"name": "anom_trop_days",
"description": "Anomalia del numero di giorni tropicali per i due scenari rcp 8.5 e 4.5",
"help": ""
},
{
"name": "anom_trop_nights",
"description": "Anomalia del numero di notti topicali per gli scenari 4.5 e 8.5",
"help": ""
},
{
"name": "anom_WSDI",
"description": "Anomalia di numero di giorni in ondata di caldo (WSDI Warm Spell Duration Index) per RCP 4.5 e 8.5",
"help": ""
},
{
"name": "CDD",
"description": "CDD - Gradi giorno di raffrescamento",
"help": ""
},
{
"name": "CompI",
"description": "Indice vocazionalità vitivinicola - Osservazioni",
"help": ""
},
{
"name": "DYFFSS",
"description": "DYFFSS - Primo giorno dell'anno coon assenza di gelo",
"help": ""
},
{
"name": "DYGSS",
"description": "DYGSS - Giorno dell'anno con inizio della stagione vegetativa",
"help": ""
},
{
"name": "ET0",
"description": "Evapotraspirazion epotenziale (osservazioni)",
"help": ""
},
{
"name": "ET0_anom",
"description": "Anomalia percentuale evapotraspirazione di riferimento per scenari rcp 4.5 e 8.5",
"help": ""
},
{
"name": "FFSL",
"description": "FFSL - Lunghezza media del periodo in assenza di gelo",
"help": ""
},
{
"name": "frazNP_oss",
"description": "Frazione neve pioggia clima attuale (1981-2010)",
"help": ""
},
{
"name": "frazNP_sce",
"description": "Frazione neve pioggia per i due scenari RCP4.5 e 8.5",
"help": ""
},
{
"name": "frost_days",
"description": "Numero di giorni di gelo",
"help": ""
},
{
"name": "FWI_90",
"description": "Indice FWI 90° percentile - RCP 4.5 e 8.5",
"help": ""
},
{
"name": "GDD",
"description": "GDD - Somma termica o Growing degree days",
"help": ""
},
{
"name": "HDD",
"description": "HDD - Gradi giorno di riscaldamento Heating Degrees Days",
"help": ""
},
{
"name": "ind_voc_viti_sce",
"description": "Indice vocazionalità vitivinicola per i due scenari 4.5 e 8.5",
"help": ""
},
{
"name": "MAXCDD",
"description": "Massimo numero di giorni consecutivi senza pioggia",
"help": ""
},
{
"name": "num_giorni_piovosi_1",
"description": "Num. giorni piovosi soglia 1 mm (osservazioni)",
"help": ""
},
{
"name": "num_giorni_piovosi_5",
"description": "Numero giorni piovosi con soglia 5 mm (osservazioni)",
"help": ""
},
{
"name": "num_giorni_piovosi_stag",
"description": "Numero giorni piovosi stagionali con soglia 1 mm (osservazioni)",
"help": ""
},
{
"name": "prec_anno",
"description": "Precipitazioni annuali (osservazioni)",
"help": ""
},
{
"name": "prec_mesi",
"description": "Precipitazioni mensili (osservazioni)",
"help": ""
},
{
"name": "prec_stag",
"description": "Precipitazioni stagionali (osservazioni)",
"help": ""
},
{
"name": "TGSL",
"description": "TGSL - Lunghezza della stagione di crescita - Growing Season",
"help": ""
},
{
"name": "tmax_anno_sce",
"description": "Temperatura media massima annuale per i due scenari RCP4.5 e RCP8.5",
"help": ""
},
{
"name": "tmax_mesi_stag_anno",
"description": "Tmax mesile, stagionale, annuale (osservazioni)",
"help": ""
},
{
"name": "tmax_stag_sce",
"description": "Temperature media massime stagionali per i due scenari RCP4.5 e RCP8.5",
"help": ""
},
{
"name": "tmin_anno_sce",
"description": "Temperatura minima media annuale per i due scenari RCP4.5 e RCP8.5",
"help": ""
},
{
"name": "tmin_max_diff_anno_stag_sce",
"description": "Anomalia delle temperature minime e massime per anni e stagioni e per entrambi gli scenari RCP4.5 e RCP8.5",
"help": ""
},
{
"name": "tmin_mesi_stag_anno",
"description": "Tmin mensile, stagionale, annuale (osservazioni)",
"help": ""
},
{
"name": "tmin_stag_sce",
"description": "Temperatura minima media stagionali per i due scenari RCP4.5 e RCP8.5",
"help": ""
},
{
"name": "trend_cdd",
"description": "Andamento indice CDD - Gradi giorno raffrescamento",
"help": ""
},
{
"name": "trend_dyffss",
"description": "Tendenza primo giorno anno con assenza di gelo",
"help": ""
},
{
"name": "trend_dygss",
"description": "Trend primo giorno dell'anno della stagione di cescita",
"help": ""
},
{
"name": "trend_et0_sign",
"description": "Trend dell'evapotraspirazione potenziale (PET)",
"help": ""
},
{
"name": "trend_ffsl",
"description": "Trend della lunghezza media del periodo in assenza di gelo",
"help": ""
},
{
"name": "trend_frazNP",
"description": "Trend frazione neve/pioggia",
"help": ""
},
{
"name": "trend_frost_days",
"description": "Trend numero giorni di gelo",
"help": ""
},
{
"name": "trend_gdd",
"description": "Trend della somma termica GDD",
"help": ""
},
{
"name": "trend_giorni_piov",
"description": "Trend giorni piovosi - Tutte le soglie",
"help": ""
},
{
"name": "trend_hdd",
"description": "trend gradi giorno di riscaldamento",
"help": ""
},
{
"name": "trend_max_cdd",
"description": "Trend del numero massimo di giorni consecutivi con precipitazione cumulata giornaliera inferiore a 1mm",
"help": ""
},
{
"name": "trend_prec",
"description": "Trend delle precipitazioni annuali e stagionali",
"help": ""
},
{
"name": "trend_sign_spei",
"description": "Andamento indice SPEI",
"help": ""
},
{
"name": "trend_tgsl",
"description": "Trend lunghezza media della stagione di crescita",
"help": ""
},
{
"name": "trend_tmax",
"description": "Trend Tmax stagionale",
"help": ""
},
{
"name": "trend_tmax_year",
"description": "Trend Tmax annuale",
"help": ""
},
{
"name": "trend_tmin",
"description": "Trend Tmin stagionale",
"help": ""
},
{
"name": "trend_tmin_year",
"description": "Trend Tmin annuale",
"help": ""
},
{
"name": "trend_trop_days",
"description": "Tendenza del numero di giorni tropicali",
"help": ""
},
{
"name": "trend_trop_nights",
"description": "tendenza del numero di notti tropicali",
"help": ""
},
{
"name": "trop_nights_bi",
"description": "Rendering tropical nights bilinear",
"help": ""
}
]}
Mensuration Capabilities: Basic
Has Histograms: true
Has Colormap: false
Has Multi Dimensions : false
Rendering Rule:
Min Scale: 0
Max Scale: 0
Copyright Text:
Service Data Type: esriImageServiceDataTypeGeneric
Min Values: -3.056980364024639
Max Values: 1901.8009951040149
Mean Values: 11.977093879289399
Standard Deviation Values: 45.45719618685766
Object ID Field: OBJECTID
Fields:
-
OBJECTID
(
type: esriFieldTypeOID, alias: OBJECTID
)
-
NAME
(
type: esriFieldTypeString, alias: NAME, length: 200
)
-
CATEGORY
(
type: esriFieldTypeInteger, alias: CATEGORY
, Coded Values:
[0: Unknown]
, [1: Primary]
, [2: Overview]
, ...6 more...
)
-
GROUPNAME
(
type: esriFieldTypeString, alias: GROUPNAME, length: 100
)
-
PRODUCTNAME
(
type: esriFieldTypeString, alias: PRODUCTNAME, length: 100
)
-
CENTERX
(
type: esriFieldTypeDouble, alias: CENTERX
)
-
CENTERY
(
type: esriFieldTypeDouble, alias: CENTERY
)
-
ZORDER
(
type: esriFieldTypeInteger, alias: ZORDER
)
-
SHAPE
(
type: esriFieldTypeGeometry, alias: SHAPE
)
-
RASTER_FUN
(
type: esriFieldTypeString, alias: RASTER_FUN, length: 100
)
-
TIPO_IND_CLIMA
(
type: esriFieldTypeString, alias: TIPO_IND_CLIMA, length: 255
, Coded Values:
[1: Clima attuale]
, [2: Scenari futuri]
, [3: Tendenze del clima attuale]
)
-
SETTORE1
(
type: esriFieldTypeString, alias: SETTORE1, length: 255
, Coded Values:
[2: Agricoltura]
, [3: Foreste]
, [4: Biodiversità ed ecosistemi]
, ...7 more...
)
-
SETTORE2
(
type: esriFieldTypeString, alias: SETTORE2, length: 255
, Coded Values:
[2: Agricoltura]
, [3: Foreste]
, [4: Biodiversità ed ecosistemi]
, ...7 more...
)
-
SETTORE3
(
type: esriFieldTypeString, alias: SETTORE3, length: 255
, Coded Values:
[2: Agricoltura]
, [3: Foreste]
, [4: Biodiversità ed ecosistemi]
, ...7 more...
)
-
SETTORE4
(
type: esriFieldTypeString, alias: SETTORE4, length: 255
, Coded Values:
[2: Agricoltura]
, [3: Foreste]
, [4: Biodiversità ed ecosistemi]
, ...7 more...
)
-
MOSAIC_RULE
(
type: esriFieldTypeString, alias: MOSAIC_RULE, length: 2000
)
-
DESCRIZIONE
(
type: esriFieldTypeString, alias: DESCRIZIONE, length: 2000
)
-
RIF_TEMPO
(
type: esriFieldTypeSmallInteger, alias: RIF_TEMPO
, Coded Values:
[1: Mese]
, [2: Stagione]
, [3: Anno]
)
-
GRAF
(
type: esriFieldTypeSmallInteger, alias: GRAF
, Coded Values:
[12: Stagione (S) - 1 grafico con i dati della stagione riferiti ai 4 scenari]
, [13: Anno (O) - 1 grafico con il valore annuale]
, [133: Anno (S): 1 grafico con i dati annuali dei 4 scenari]
, ...4 more...
)
-
UNITA_MISURA
(
type: esriFieldTypeSmallInteger, alias: UM
, Coded Values:
[1: [mm]]
, [2: [°C]]
, [3: [giorni]]
, ...5 more...
)
-
WEBAPP
(
type: esriFieldTypeString, alias: WEBAPP, length: 255
, Coded Values:
[1: SI]
, [2: NO]
)
-
CODICE
(
type: esriFieldTypeString, alias: CODICE, length: 50
)
Default Mosaic Method: Northwest
Allowed Mosaic Methods: NorthWest,Center,LockRaster,ByAttribute,Nadir,Viewpoint,Seamline,None
SortField:
SortValue: null
Mosaic Operator: First
Default Compression Quality: 75
Default Resampling Method: Bilinear
Max Record Count: 1000
Max Image Height: 4100
Max Image Width: 15000
Max Download Image Count: 20
Max Mosaic Image Count: 20
Allow Raster Function: true
Allow Copy: true
Allow Analysis: true
Allow Compute TiePoints: false
Supports Statistics: true
Supports Advanced Queries: true
Use StandardizedQueries: true
Raster Type Infos:
Name: Raster Dataset
Description: Supports all ArcGIS Raster Datasets
Help:
Has Raster Attribute Table: false
Edit Fields Info: null
Ownership Based AccessControl For Rasters: null
Child Resources:
Info
Histograms
Statistics
Key Properties
Legend
Raster Function Infos
Supported Operations:
Export Image
Query
Identify
Compute Histograms
Compute Statistics Histograms
Get Samples
Compute Class Statistics
Query Boundary
Compute Pixel Location
Validate
Project