View In:
ArcGIS JavaScript
ArcGIS Online Map Viewer
ArcGIS Earth
ArcMap
View Footprint In:
ArcGIS Online Map Viewer
Service Description: rischi_naturali/suscettibilita_frane_advitam
Name: rischi_naturali/suscettibilita_frane_advitam
Description:
Single Fused Map Cache: false
Extent:
XMin: 735432.835097158
YMin: 5430854.96107929
XMax: 921377.3487547196
YMax: 5717251.108647578
Spatial Reference: 102100
(3857)
Initial Extent:
XMin: 735432.835097158
YMin: 5430854.96107929
XMax: 921377.3487547196
YMax: 5717251.108647578
Spatial Reference: 102100
(3857)
Full Extent:
XMin: 735432.835097158
YMin: 5430854.96107929
XMax: 921377.3487547196
YMax: 5717251.108647578
Spatial Reference: 102100
(3857)
Pixel Size X: 19.998334443704195
Pixel Size Y: 19.998334443704227
Band Count: 1
Pixel Type: U8
RasterFunction Infos: {"rasterFunctionInfos": [
{
"name": "simbologia_suscett",
"description": "A raster function template.",
"help": ""
},
{
"name": "None",
"description": "",
"help": ""
}
]}
Mensuration Capabilities: Basic
Has Histograms: true
Has Colormap: false
Has Multi Dimensions : false
Rendering Rule:
Min Scale: 0
Max Scale: 0
Copyright Text:
Service Data Type: esriImageServiceDataTypeGeneric
Min Values: 1
Max Values: 3
Mean Values: 1.6163331523525863
Standard Deviation Values: 0.6208798434701258
Object ID Field:
Fields:
None
Default Mosaic Method: Center
Allowed Mosaic Methods:
SortField:
SortValue: null
Mosaic Operator: First
Default Compression Quality: 75
Default Resampling Method: Nearest
Max Record Count: null
Max Image Height: 4100
Max Image Width: 15000
Max Download Image Count: null
Max Mosaic Image Count: null
Allow Raster Function: true
Allow Copy: true
Allow Analysis: true
Allow Compute TiePoints: false
Supports Statistics: false
Supports Advanced Queries: false
Use StandardizedQueries: true
Raster Type Infos:
Name: Raster Dataset
Description: Supports all ArcGIS Raster Datasets
Help:
Has Raster Attribute Table: true
Edit Fields Info: null
Ownership Based AccessControl For Rasters: null
Child Resources:
Info
Raster Attribute Table
Histograms
Statistics
Key Properties
Legend
Raster Function Infos
Supported Operations:
Export Image
Identify
Measure
Compute Histograms
Compute Statistics Histograms
Get Samples
Compute Class Statistics
Query Boundary
Compute Pixel Location
Validate
Project