View In:
ArcGIS JavaScript
ArcGIS Online Map Viewer
ArcGIS Earth
ArcMap
ArcGIS Pro
View Footprint In:
ArcGIS Online Map Viewer
Service Description: Il dataset costituisce un mosaico di immagini acquisite dal satellite Sentinel 2A (programma europeo Copernicus) durante l'estate del 2020. Le immagini sono opportunamente mosaicate a copertura del territorio piemontese secondo una serie di 12 tiles e sono pubblicate in colori naturali: bande 4 (rosso), 3 (verde) e 2 (blu) del sensore MSI (13 canali nel visibile/infrarosso VNIR. Il mosaico è stato realizzato da Arpa Piemonte nell'ambito delle attività connesse al progetto nazionale di Monitoraggio del Consumo di suolo 2020 condotto dal Sistema Nazionale per la Protezione Ambientale (SNPA) attraverso il coordinamento di ISPRA e il coinvolgimento di diverse Agenzie regionali. Il progetto si pone l'obiettivo di monitorare le trasformazioni del territorio dovute a espansioni urbane, infrastrutturali, commerciali, ecc. con la conseguente perdita di suolo naturale, agricolo e semi naturale, inteso come risorsa ambientale essenziale e fondamentalmente non rinnovabile. La metodologia di analisi si avvale, per la prima volta su scala nazionale in modo unitario ed omogeneo, delle nuove immagini Sentinel 2A/B che, dato il loro livello di dettaglio e la frequenza di rivisitazione garantita dalla missione Sentinel, consentono di ottenere visioni d¿insieme del territorio nazionale in maniera periodica e costante (analisi multi temporale). Il confronto tra queste consente di evidenziare le principali trasformazioni del territorio e i relativi fenomeni di consumo di suolo (espansione insediamenti urbani, nuova viabilità, cantieristica per nuove opere, ecc.).
Per la descrizione completa si rimanda alla scheda metadati.
Il servizio è disponibile in modalità occ - WMTS al seguente indirizzo: https://webgis.arpa.piemonte.it/ags/rest/services/topografia_dati_di_base/Sentinel_2_2020_Estate/MapServer/WMTS/1.0.0/WMTSCapabilities.xml
Per ulteriori informazioni si rimanda al sito https://scihub.copernicus.eu/
Ogni iniziativa di divulgazione delle informazioni contenute nel dataset o da esso derivate (cartogrammi, relazioni, servizi informativi), dovrà sempre citare la fonte del dato originale (autori, proprietario). Per eventuali aggregazioni o rielaborazioni dei dati forniti finalizzate alla realizzazione di prodotti diversi dall'originale, pur permanendo l'obbligo di citazione della fonte, si declina ogni responsabilità.
Map Name: Sentinel_2_2020_Estate
Legend
All Layers and Tables
Dynamic Legend
Dynamic All Layers
Layers:
Description: Il dataset costituisce un mosaico di immagini acquisite dal satellite Sentinel 2A (programma europeo Copernicus) durante l'estate del 2020. Le immagini sono opportunamente mosaicate a copertura del territorio piemontese secondo una serie di 12 tiles e sono pubblicate in colori naturali: bande 4 (rosso), 3 (verde) e 2 (blu) del sensore MSI (13 canali nel visibile/infrarosso VNIR. Il mosaico è stato realizzato da Arpa Piemonte nell'ambito delle attività connesse al progetto nazionale di Monitoraggio del Consumo di suolo 2020 condotto dal Sistema Nazionale per la Protezione Ambientale (SNPA) attraverso il coordinamento di ISPRA e il coinvolgimento di diverse Agenzie regionali. Il progetto si pone l'obiettivo di monitorare le trasformazioni del territorio dovute a espansioni urbane, infrastrutturali, commerciali, ecc. con la conseguente perdita di suolo naturale, agricolo e semi naturale, inteso come risorsa ambientale essenziale e fondamentalmente non rinnovabile. La metodologia di analisi si avvale, per la prima volta su scala nazionale in modo unitario ed omogeneo, delle nuove immagini Sentinel 2A/B che, dato il loro livello di dettaglio e la frequenza di rivisitazione garantita dalla missione Sentinel, consentono di ottenere visioni d¿insieme del territorio nazionale in maniera periodica e costante (analisi multi temporale). Il confronto tra queste consente di evidenziare le principali trasformazioni del territorio e i relativi fenomeni di consumo di suolo (espansione insediamenti urbani, nuova viabilità, cantieristica per nuove opere, ecc.).
Per la descrizione completa si rimanda alla scheda metadati.
Il servizio è disponibile in modalità occ - WMTS al seguente indirizzo: https://webgis.arpa.piemonte.it/ags/rest/services/topografia_dati_di_base/Sentinel_2_2020_Estate/MapServer/WMTS/1.0.0/WMTSCapabilities.xml
Per ulteriori informazioni si rimanda al sito https://scihub.copernicus.eu/
Ogni iniziativa di divulgazione delle informazioni contenute nel dataset o da esso derivate (cartogrammi, relazioni, servizi informativi), dovrà sempre citare la fonte del dato originale (autori, proprietario). Per eventuali aggregazioni o rielaborazioni dei dati forniti finalizzate alla realizzazione di prodotti diversi dall'originale, pur permanendo l'obbligo di citazione della fonte, si declina ogni responsabilità.
Service Item Id: d18497ca51134a78889f55cb3bd191cd
Copyright Text: Copernicus Sentinel Data - This service contains modified Copernicus Sentinel data (years: 2020)
Spatial Reference:
102100
(3857)
Single Fused Map Cache: true
Tile Info:
- Height: 256
- Width: 256
- DPI: 96
-
Levels of Detail: 24
-
Level ID: 0
[ Start Tile, End Tile ]
- Resolution: 156543.03392800014
- Scale: 5.91657527591555E8
-
Level ID: 1
[ Start Tile, End Tile ]
- Resolution: 78271.51696399994
- Scale: 2.95828763795777E8
-
Level ID: 2
[ Start Tile, End Tile ]
- Resolution: 39135.75848200009
- Scale: 1.47914381897889E8
-
Level ID: 3
[ Start Tile, End Tile ]
- Resolution: 19567.87924099992
- Scale: 7.3957190948944E7
-
Level ID: 4
[ Start Tile, End Tile ]
- Resolution: 9783.93962049996
- Scale: 3.6978595474472E7
-
Level ID: 5
[ Start Tile, End Tile ]
- Resolution: 4891.96981024998
- Scale: 1.8489297737236E7
- Format: MIXED
- Compression Quality: 75.0
- Origin: X: -2.0037508342787E7
Y: 2.0037508342787E7
- Spatial Reference: 102100
(3857)
Initial Extent:
XMin: -728024.5539287305
YMin: 5380596.061700642
XMax: 2490909.2135187313
YMax: 5944972.995376453
Spatial Reference: 102100
(3857)
Full Extent:
XMin: 731283.9498263379
YMin: 5472162.248276561
XMax: 1026466.9708576723
YMax: 5855314.16724881
Spatial Reference: 102100
(3857)
Units: esriMeters
Supported Image Format Types: PNG32,PNG24,PNG,JPG,DIB,TIFF,EMF,PS,PDF,GIF,SVG,SVGZ,BMP
Document Info:
Title: Sentinel_2_2020_Estate
Author:
Comments: <DIV STYLE="text-align:Left;"><DIV><DIV><DIV STYLE="font-size:12pt"><P><SPAN>Il dataset costituisce un mosaico di immagini acquisite dal satellite Sentinel 2A (programma europeo Copernicus) durante l'estate del 20</SPAN><SPAN>20</SPAN><SPAN>. Le immagini sono opportunamente mosaicate a copertura del territorio piemontese secondo una serie di 12 tiles e sono pubblicate in colori naturali: bande 4 (rosso), 3 (verde) e 2 (blu) del sensore MSI (13 canali nel visibile/infrarosso VNIR</SPAN><SPAN>.</SPAN><SPAN> Il mosaico è stato realizzato da Arpa Piemonte nell'ambito delle attività connesse al progetto nazionale di Monitoraggio del Consumo di suolo 20</SPAN><SPAN>20</SPAN><SPAN> condotto dal Sistema Nazionale per la Protezione Ambientale (SNPA) attraverso il coordinamento di ISPRA e il coinvolgimento di diverse Agenzie regionali. Il progetto si pone l'obiettivo di monitorare le trasformazioni del territorio dovute a espansioni urbane, infrastrutturali, commerciali, ecc. con la conseguente perdita di suolo naturale, agricolo e semi naturale, inteso come risorsa ambientale essenziale e fondamentalmente non rinnovabile. La metodologia di analisi si avvale, per la prima volta su scala nazionale in modo unitario ed omogeneo, delle nuove immagini Sentinel 2A/B che, dato il loro livello di dettaglio e la frequenza di rivisitazione garantita dalla missione Sentinel, consentono di ottenere visioni d¿insieme del territorio nazionale in maniera periodica e costante (analisi multi temporale). Il confronto tra queste consente di evidenziare le principali trasformazioni del territorio e i relativi fenomeni di consumo di suolo (espansione insediamenti urbani, nuova viabilità, cantieristica per nuove opere, ecc.).</SPAN></P><P><SPAN>P</SPAN><SPAN>er la descrizione completa si rimanda</SPAN><SPAN> alla</SPAN><SPAN> </SPAN><A href="https://webgis.arpa.piemonte.it/gpserver_arpa/catalog/search/resource/details.page?uuid=ARLPA_TO%3ASENTINEL2_ESTATE_2020-2020-06-01%3A12%3A46" STYLE="text-decoration:underline;"><SPAN>scheda metadati</SPAN></A><SPAN>.</SPAN></P><P><SPAN /></P><P><SPAN>Il servizio è disponibile in modalità occ - WMTS al seguente indirizzo</SPAN><SPAN>:</SPAN><SPAN> </SPAN><A href="https://webgis.arpa.piemonte.it/ags/rest/services/topografia_dati_di_base/Sentinel_2_2019_Estate/MapServer/WMTS/1.0.0/WMTSCapabilities.xml" STYLE="text-decoration:underline;"><SPAN>https://webgis.arpa.piemonte.it/ags/rest/services/topografia_dati_di_base/Sentinel_2_20</SPAN><SPAN>20</SPAN><SPAN>_Estate/MapServer/WMTS/1.0.0/WMTSCapabilities.xml</SPAN></A></P><P /><P><SPAN>Per ulteriori informazioni si rimanda al sito </SPAN><A href="https://scihub.copernicus.eu:443/" STYLE="text-decoration:underline;"><SPAN>https://scihub.copernicus.eu/</SPAN></A></P><P><SPAN>Ogni iniziativa di divulgazione delle informazioni contenute nel dataset o da esso derivate (cartogrammi, relazioni, servizi informativi), dovrà sempre citare la fonte del dato originale (autori, proprietario). Per eventuali aggregazioni o rielaborazioni dei dati forniti finalizzate alla realizzazione di prodotti diversi dall'originale, pur permanendo l'obbligo di citazione della fonte, si declina ogni responsabilità.</SPAN></P></DIV></DIV></DIV></DIV>
Subject: Sentinel 2 2020 Estate
Category:
Keywords: Sentinel,Copernicus,telerilevamento,immagini satellitari,Piemonte,2020,consumo di suolo,_topografia_dati_di_base,_OGC-WMTS
AntialiasingMode: Fast
TextAntialiasingMode: Force
Supports Dynamic Layers: true
Resampling: true
MaxRecordCount: 2000
MaxImageHeight: 4096
MaxImageWidth: 4096
Supported Query Formats: JSON, geoJSON, PBF
Supports Query Data Elements: true
Min Scale: 5.91657527591555E8
Max Scale: 1128.497176
Supports Datum Transformation: true
Child Resources:
Info
Dynamic Layer
Supported Operations:
Export Map
Identify
QueryDomains
QueryLegends
Find
Return Updates