View In:
ArcGIS JavaScript
ArcGIS Online Map Viewer
ArcGIS Earth
Service Description: meteorologia_clima/cambia_clima_D10
Name: meteorologia_clima/cambia_clima_D10
Description:
Single Fused Map Cache: false
Extent:
XMin: 736729.0268599238
YMin: 5473923.308396884
XMax: 1026583.7401534478
YMax: 5856046.06900196
Spatial Reference: 102100
(3857)
LatestVCSWkid(0)
Initial Extent:
XMin: 736729.0268599238
YMin: 5473923.308396884
XMax: 1026583.7401534478
YMax: 5856046.06900196
Spatial Reference: 102100
(3857)
LatestVCSWkid(0)
Full Extent:
XMin: 736729.0268599238
YMin: 5473923.308396884
XMax: 1026583.7401534478
YMax: 5856046.06900196
Spatial Reference: 102100
(3857)
LatestVCSWkid(0)
Pixel Size X: 50.780433303
Pixel Size Y: 50.78043330300005
Band Count: 1
Pixel Type: F32
RasterFunction Infos: {"rasterFunctionInfos": [
{
"name": "None",
"description": "Make a Raster or Raster Dataset into a Function Raster Dataset.",
"help": ""
},
{
"name": "anom_frazNP_sce",
"description": "Anomalia della frazione nene pioggia per i due scenari RCP 4.5 e 8.5",
"help": ""
},
{
"name": "anom_frost_days",
"description": "Anomalia giorni di gelo TCP 4.5",
"help": ""
},
{
"name": "anom_giorni_prec",
"description": "Anomalia del n. giorni piovosi RCP4.5",
"help": ""
},
{
"name": "anom_giorni_prec_rcp85",
"description": "Anomalia del n. giorni piovosi RCP8.5",
"help": ""
},
{
"name": "anom_ind_voc_sce",
"description": "Anomalia dell'indice di vocazionlita vitivinicola per i due scenari RCP 4.5 e 8.5",
"help": ""
},
{
"name": "anom_maxcdd",
"description": "Anomalia massimo numero di giorni senza pioggia - RCP4.5",
"help": ""
},
{
"name": "anom_maxcdd_rcp85",
"description": "Anomalia massimo numero di giorni senza pioggia - RCP8.5",
"help": ""
},
{
"name": "anom_perc_cdd_RCP",
"description": "anomalia percentuale CDD entrambi gli scenari",
"help": ""
},
{
"name": "anom_perc_hdd_RCP",
"description": "Anomalia percentuale HDD per entrambi gli scenari",
"help": ""
},
{
"name": "anom_prec_DJF",
"description": "Anomalia della precipitazione cumalata media - Inverno DJF RCP4.5",
"help": ""
},
{
"name": "anom_prec_DJF_rcp85",
"description": "Anomalia della precipitazione cumulata media - Inverno DJF RCP8.5",
"help": ""
},
{
"name": "anom_prec_JJA",
"description": "Anomalia della precipitazione cumalata media - Estate JJA RCP4.5",
"help": ""
},
{
"name": "anom_prec_JJA_rcp85",
"description": "Anomalia della precipitazione cumalata media - Estate JJA RCP8.5",
"help": ""
},
{
"name": "anom_prec_MAM",
"description": "Anomalia della precipitazione cumalata media - Primavera MAM RCP4.5",
"help": ""
},
{
"name": "anom_prec_MAM_rcp85",
"description": "Anomalia delle precipirazione cumulata media Primavera MAM RCP8.5",
"help": ""
},
{
"name": "anom_prec_SON",
"description": "Anomalia della precipitazione cumalata media - Autunno SON RCP4.5",
"help": ""
},
{
"name": "anom_prec_SON_rcp85",
"description": "Anomalia della precipitazione cumulata media Autunno SON RCP8.5",
"help": ""
},
{
"name": "anom_trop_days",
"description": "Anomalia del numero di giorni tropicali per i due scenari rcp 8.5 e 4.5",
"help": ""
},
{
"name": "anom_trop_nights",
"description": "Anomalia del numero di notti topicali per gli scenari 4.5 e 8.5",
"help": ""
},
{
"name": "anom_WSDI",
"description": "Anomalia di numero di giorni in ondata di caldo (WSDI Warm Spell Duration Index) per RCP 4.5 e 8.5",
"help": ""
},
{
"name": "CDD",
"description": "CDD - Gradi giorno di raffrescamento",
"help": ""
},
{
"name": "CompI",
"description": "Indice vocazionalità vitivinicola - Osservazioni",
"help": ""
},
{
"name": "DYFFSS",
"description": "DYFFSS - Primo giorno dell'anno coon assenza di gelo",
"help": ""
},
{
"name": "DYGSS",
"description": "DYGSS - Giorno dell'anno con inizio della stagione vegetativa",
"help": ""
},
{
"name": "ET0",
"description": "Evapotraspirazion epotenziale (osservazioni)",
"help": ""
},
{
"name": "ET0_anom",
"description": "Anomalia percentuale evapotraspirazione di riferimento per scenari rcp 4.5 e 8.5",
"help": ""
},
{
"name": "FFSL",
"description": "FFSL - Lunghezza media del periodo in assenza di gelo",
"help": ""
},
{
"name": "frazNP_oss",
"description": "Frazione neve pioggia clima attuale (1981-2010)",
"help": ""
},
{
"name": "frazNP_sce",
"description": "Frazione neve pioggia per i due scenari RCP4.5 e 8.5",
"help": ""
},
{
"name": "frost_days",
"description": "Numero di giorni di gelo",
"help": ""
},
{
"name": "FWI_90",
"description": "Indice FWI 90° percentile - RCP 4.5 e 8.5",
"help": ""
},
{
"name": "GDD",
"description": "GDD - Somma termica o Growing degree days",
"help": ""
},
{
"name": "HDD",
"description": "HDD - Gradi giorno di riscaldamento Heating Degrees Days",
"help": ""
},
{
"name": "ind_voc_viti_sce",
"description": "Indice vocazionalità vitivinicola per i due scenari 4.5 e 8.5",
"help": ""
},
{
"name": "MAXCDD",
"description": "Massimo numero di giorni consecutivi senza pioggia",
"help": ""
},
{
"name": "num_giorni_piovosi_1",
"description": "Num. giorni piovosi soglia 1 mm (osservazioni)",
"help": ""
},
{
"name": "num_giorni_piovosi_5",
"description": "Numero giorni piovosi con soglia 5 mm (osservazioni)",
"help": ""
},
{
"name": "num_giorni_piovosi_stag",
"description": "Numero giorni piovosi stagionali con soglia 1 mm (osservazioni)",
"help": ""
},
{
"name": "prec_anno",
"description": "Precipitazioni annuali (osservazioni)",
"help": ""
},
{
"name": "prec_mesi",
"description": "Precipitazioni mensili (osservazioni)",
"help": ""
},
{
"name": "prec_stag",
"description": "Precipitazioni stagionali (osservazioni)",
"help": ""
},
{
"name": "TGSL",
"description": "TGSL - Lunghezza della stagione di crescita - Growing Season",
"help": ""
},
{
"name": "tmax_anno_sce",
"description": "Temperatura media massima annuale per i due scenari RCP4.5 e RCP8.5",
"help": ""
},
{
"name": "tmax_mesi_stag_anno",
"description": "Tmax mesile, stagionale, annuale (osservazioni)",
"help": ""
},
{
"name": "tmax_stag_sce",
"description": "Temperature media massime stagionali per i due scenari RCP4.5 e RCP8.5",
"help": ""
},
{
"name": "tmin_anno_sce",
"description": "Temperatura minima media annuale per i due scenari RCP4.5 e RCP8.5",
"help": ""
},
{
"name": "tmin_max_diff_anno_stag_sce",
"description": "Anomalia delle temperature minime e massime per anni e stagioni e per entrambi gli scenari RCP4.5 e RCP8.5",
"help": ""
},
{
"name": "tmin_mesi_stag_anno",
"description": "Tmin mensile, stagionale, annuale (osservazioni)",
"help": ""
},
{
"name": "tmin_stag_sce",
"description": "Temperatura minima media stagionali per i due scenari RCP4.5 e RCP8.5",
"help": ""
},
{
"name": "trop_nights_bi",
"description": "Rendering tropical nights bilinear",
"help": ""
}
]}
Mensuration Capabilities:
Inspection Capabilities:
Has Histograms: true
Has Colormap: false
Has Multi Dimensions : false
Rendering Rule:
Min Scale: 0
Max Scale: 0
Copyright Text:
Service Data Type: esriImageServiceDataTypeGeneric
Min Values: 0.0015623865185252408
Max Values: 1.5419647619128227
Mean Values: 1.0209080179495325
Standard Deviation Values: 0.10325660190325443
Object ID Field: objectid
Fields:
-
objectid
(
type: esriFieldTypeOID, alias: objectid
)
-
name
(
type: esriFieldTypeString, alias: name, length: 200
)
-
minps
(
type: esriFieldTypeDouble, alias: minps
)
-
maxps
(
type: esriFieldTypeDouble, alias: maxps
)
-
lowps
(
type: esriFieldTypeDouble, alias: lowps
)
-
highps
(
type: esriFieldTypeDouble, alias: highps
)
-
category
(
type: esriFieldTypeInteger, alias: category
, Coded Values:
[0: Unknown]
, [1: Primary]
, [2: Overview]
, ...6 more...
)
-
tag
(
type: esriFieldTypeString, alias: tag, length: 100
)
-
groupname
(
type: esriFieldTypeString, alias: groupname, length: 100
)
-
productname
(
type: esriFieldTypeString, alias: productname, length: 100
)
-
centerx
(
type: esriFieldTypeDouble, alias: centerx
)
-
centery
(
type: esriFieldTypeDouble, alias: centery
)
-
zorder
(
type: esriFieldTypeInteger, alias: zorder
)
-
shape
(
type: esriFieldTypeGeometry, alias: shape
)
-
id_footprint
(
type: esriFieldTypeSmallInteger, alias: ID_FOOTPRINT
)
-
raster_fun
(
type: esriFieldTypeString, alias: RASTER_FUN, length: 100
)
-
tipo_ind_clima
(
type: esriFieldTypeString, alias: TIPO_IND_CLIMA, length: 255
, Coded Values:
[1: Clima attuale]
, [2: Scenari futuri]
, [3: Tendenze del clima attuale]
)
-
settore1
(
type: esriFieldTypeString, alias: SETTORE1, length: 255
, Coded Values:
[2: Agricoltura]
, [3: Foreste]
, [4: Biodiversità ed ecosistemi]
, ...7 more...
)
-
settore2
(
type: esriFieldTypeString, alias: SETTORE2, length: 255
, Coded Values:
[2: Agricoltura]
, [3: Foreste]
, [4: Biodiversità ed ecosistemi]
, ...7 more...
)
-
settore3
(
type: esriFieldTypeString, alias: SETTORE3, length: 255
, Coded Values:
[2: Agricoltura]
, [3: Foreste]
, [4: Biodiversità ed ecosistemi]
, ...7 more...
)
-
settore4
(
type: esriFieldTypeString, alias: SETTORE4, length: 255
, Coded Values:
[2: Agricoltura]
, [3: Foreste]
, [4: Biodiversità ed ecosistemi]
, ...7 more...
)
-
mosaic_rule
(
type: esriFieldTypeString, alias: MOSAIC_RULE, length: 2000
)
-
descrizione
(
type: esriFieldTypeString, alias: DESCRIZIONE, length: 2000
)
-
rif_tempo
(
type: esriFieldTypeSmallInteger, alias: RIF_TEMPO
, Coded Values:
[1: Mese]
, [2: Stagione]
, [3: Anno]
)
-
graf
(
type: esriFieldTypeSmallInteger, alias: GRAF
, Coded Values:
[12: Stagione (S) - 1 grafico con i dati della stagione riferiti ai 4 scenari]
, [13: Anno (O) - 1 grafico con il valore annuale]
, [133: Anno (S): 1 grafico con i dati annuali dei 4 scenari]
, ...4 more...
)
-
unita_misura
(
type: esriFieldTypeSmallInteger, alias: UM
, Coded Values:
[1: [mm]]
, [2: [°C]]
, [3: [giorni]]
, ...5 more...
)
-
webapp
(
type: esriFieldTypeString, alias: WEBAPP, length: 255
, Coded Values:
[1: SI]
, [2: NO]
)
-
codice
(
type: esriFieldTypeString, alias: CODICE, length: 50
)
-
st_area(shape)
(
type: esriFieldTypeDouble, alias: st_area(shape)
)
-
st_length(shape)
(
type: esriFieldTypeDouble, alias: st_length(shape)
)
Default Mosaic Method: Northwest
Allowed Mosaic Methods: NorthWest,Center,LockRaster,ByAttribute,Nadir,Viewpoint,Seamline,None
SortField:
SortValue: null
Mosaic Operator: First
Default Compression Quality: 75
Default Resampling Method: Bilinear
Max Record Count: 1000
Max Image Height: 4100
Max Image Width: 15000
Max Download Image Count: 20
Max Mosaic Image Count: 20
Allow Raster Function: true
Allow Copy: true
Allow Analysis: true
Allow Compute TiePoints: false
Supports Statistics: true
Supports Advanced Queries: true
Use StandardizedQueries: true
Raster Type Infos:
Name: Raster Dataset
Description: Supports all ArcGIS Raster Datasets
Help:
Has Raster Attribute Table: false
Edit Fields Info: null
Ownership Based AccessControl For Rasters: null
Child Resources:
Info
Histograms
Statistics
Key Properties
Legend
Raster Function Infos
Supported Operations:
Export Image
Query
Identify
Compute Histograms
Compute Statistics Histograms
Get Samples
Compute Class Statistics
Query GPS Info
Find Images
Image to Map
Map to Image
Measure from Image
Image to Map Multiray
Query Boundary
Compute Pixel Location
Compute Angles
Validate
Project