View In:
ArcGIS JavaScript
ArcGIS Online Map Viewer
ArcGIS Earth
Service Description: meteorologia_clima/cambia_clima_D20
Name: meteorologia_clima/cambia_clima_D20
Description:
Single Fused Map Cache: false
Extent:
XMin: 736746.8867999986
YMin: 5474071.349415559
XMax: 1026873.3096799846
YMax: 5856036.3522000015
Spatial Reference: 102100
(3857)
LatestVCSWkid(0)
Initial Extent:
XMin: 736746.8867999986
YMin: 5474071.349415559
XMax: 1026873.3096799846
YMax: 5856036.3522000015
Spatial Reference: 102100
(3857)
LatestVCSWkid(0)
Full Extent:
XMin: 736746.8867999986
YMin: 5474071.349415559
XMax: 1026873.3096799846
YMax: 5856036.3522000015
Spatial Reference: 102100
(3857)
LatestVCSWkid(0)
Pixel Size X: 695.746817458
Pixel Size Y: 695.7468174580002
Band Count: 1
Pixel Type: F32
RasterFunction Infos: {"rasterFunctionInfos": [
{
"name": "None",
"description": "Make a Raster or Raster Dataset into a Function Raster Dataset.",
"help": ""
},
{
"name": "trend_cdd",
"description": "Andamento indice CDD - Gradi giorno raffrescamento",
"help": ""
},
{
"name": "trend_dyffss",
"description": "Tendenza primo giorno anno con assenza di gelo",
"help": ""
},
{
"name": "trend_dygss",
"description": "Trend primo giorno dell'anno della stagione di cescita",
"help": ""
},
{
"name": "trend_et0_sign",
"description": "Trend dell'evapotraspirazione potenziale (PET)",
"help": ""
},
{
"name": "trend_ffsl",
"description": "Trend della lunghezza media del periodo in assenza di gelo",
"help": ""
},
{
"name": "trend_frazNP",
"description": "Trend frazione neve/pioggia",
"help": ""
},
{
"name": "trend_frost_days",
"description": "Trend numero giorni di gelo",
"help": ""
},
{
"name": "trend_gdd",
"description": "Trend della somma termica GDD",
"help": ""
},
{
"name": "trend_giorni_piov",
"description": "Trend giorni piovosi - Tutte le soglie",
"help": ""
},
{
"name": "trend_hdd",
"description": "trend gradi giorno di riscaldamento",
"help": ""
},
{
"name": "trend_max_cdd",
"description": "Trend del numero massimo di giorni consecutivi con precipitazione cumulata giornaliera inferiore a 1mm",
"help": ""
},
{
"name": "trend_prec",
"description": "Trend delle precipitazioni annuali e stagionali",
"help": ""
},
{
"name": "trend_sign_spei",
"description": "Andamento indice SPEI",
"help": ""
},
{
"name": "trend_tgsl",
"description": "Trend lunghezza media della stagione di crescita",
"help": ""
},
{
"name": "trend_tmax",
"description": "Trend Tmax stagionale",
"help": ""
},
{
"name": "trend_tmax_year",
"description": "Trend Tmax annuale",
"help": ""
},
{
"name": "trend_tmin",
"description": "Trend Tmin stagionale",
"help": ""
},
{
"name": "trend_tmin_year",
"description": "Trend Tmin annuale",
"help": ""
},
{
"name": "trend_trop_days",
"description": "Tendenza del numero di giorni tropicali",
"help": ""
},
{
"name": "trend_trop_nights",
"description": "tendenza del numero di notti tropicali",
"help": ""
},
{
"name": "OI_TREND_SIGN_NOTTI_TEST_LEGENDA",
"description": "TEST LEGENDE NUOVE",
"help": ""
}
]}
Mensuration Capabilities:
Inspection Capabilities:
Has Histograms: true
Has Colormap: false
Has Multi Dimensions : false
Rendering Rule:
Min Scale: 0
Max Scale: 0
Copyright Text:
Service Data Type: esriImageServiceDataTypeGeneric
Min Values: -0.4686523331911303
Max Values: 254.50194521299454
Mean Values: 80.22629663948969
Standard Deviation Values: 115.61350387023582
Object ID Field: objectid
Fields:
-
objectid
(
type: esriFieldTypeOID, alias: objectid
)
-
name
(
type: esriFieldTypeString, alias: name, length: 200
)
-
minps
(
type: esriFieldTypeDouble, alias: minps
)
-
maxps
(
type: esriFieldTypeDouble, alias: maxps
)
-
lowps
(
type: esriFieldTypeDouble, alias: lowps
)
-
highps
(
type: esriFieldTypeDouble, alias: highps
)
-
category
(
type: esriFieldTypeInteger, alias: category
, Coded Values:
[0: Unknown]
, [1: Primary]
, [2: Overview]
, ...6 more...
)
-
tag
(
type: esriFieldTypeString, alias: tag, length: 100
)
-
groupname
(
type: esriFieldTypeString, alias: groupname, length: 100
)
-
productname
(
type: esriFieldTypeString, alias: productname, length: 100
)
-
centerx
(
type: esriFieldTypeDouble, alias: centerx
)
-
centery
(
type: esriFieldTypeDouble, alias: centery
)
-
zorder
(
type: esriFieldTypeInteger, alias: zorder
)
-
shape
(
type: esriFieldTypeGeometry, alias: shape
)
-
id_footprint
(
type: esriFieldTypeSmallInteger, alias: ID_FOOTPRINT
)
-
raster_fun
(
type: esriFieldTypeString, alias: RASTER_FUN, length: 100
)
-
tipo_ind_clima
(
type: esriFieldTypeString, alias: TIPO_IND_CLIMA, length: 255
, Coded Values:
[1: Clima attuale]
, [2: Scenari futuri]
, [3: Tendenze del clima attuale]
)
-
settore1
(
type: esriFieldTypeString, alias: SETTORE1, length: 255
, Coded Values:
[2: Agricoltura]
, [3: Foreste]
, [4: Biodiversità ed ecosistemi]
, ...7 more...
)
-
settore2
(
type: esriFieldTypeString, alias: SETTORE2, length: 255
, Coded Values:
[2: Agricoltura]
, [3: Foreste]
, [4: Biodiversità ed ecosistemi]
, ...7 more...
)
-
settore3
(
type: esriFieldTypeString, alias: SETTORE3, length: 255
, Coded Values:
[2: Agricoltura]
, [3: Foreste]
, [4: Biodiversità ed ecosistemi]
, ...7 more...
)
-
settore4
(
type: esriFieldTypeString, alias: SETTORE4, length: 255
, Coded Values:
[2: Agricoltura]
, [3: Foreste]
, [4: Biodiversità ed ecosistemi]
, ...7 more...
)
-
mosaic_rule
(
type: esriFieldTypeString, alias: MOSAIC_RULE, length: 2000
)
-
descrizione
(
type: esriFieldTypeString, alias: DESCRIZIONE, length: 2000
)
-
rif_tempo
(
type: esriFieldTypeSmallInteger, alias: RIF_TEMPO
, Coded Values:
[1: Mese]
, [2: Stagione]
, [3: Anno]
)
-
graf
(
type: esriFieldTypeSmallInteger, alias: GRAF
, Coded Values:
[12: Stagione (S) - 1 grafico con i dati della stagione riferiti ai 4 scenari]
, [13: Anno (O) - 1 grafico con il valore annuale]
, [133: Anno (S): 1 grafico con i dati annuali dei 4 scenari]
, ...4 more...
)
-
unita_misura
(
type: esriFieldTypeSmallInteger, alias: UNITA_MISURA
, Coded Values:
[1: [mm]]
, [2: [°C]]
, [3: [giorni]]
, ...5 more...
)
-
webapp
(
type: esriFieldTypeString, alias: WEBAPP, length: 255
, Coded Values:
[1: SI]
, [2: NO]
)
-
mos_rule_copy
(
type: esriFieldTypeString, alias: MOS_RULE_COPY, length: 2000
)
-
codice
(
type: esriFieldTypeString, alias: CODICE, length: 50
)
-
st_area(shape)
(
type: esriFieldTypeDouble, alias: st_area(shape)
)
-
st_length(shape)
(
type: esriFieldTypeDouble, alias: st_length(shape)
)
Default Mosaic Method: Northwest
Allowed Mosaic Methods: NorthWest,Center,LockRaster,ByAttribute,Nadir,Viewpoint,Seamline,None
SortField:
SortValue: null
Mosaic Operator: First
Default Compression Quality: 75
Default Resampling Method: Nearest
Max Record Count: 1000
Max Image Height: 4100
Max Image Width: 15000
Max Download Image Count: 20
Max Mosaic Image Count: 20
Allow Raster Function: true
Allow Copy: true
Allow Analysis: true
Allow Compute TiePoints: false
Supports Statistics: true
Supports Advanced Queries: true
Use StandardizedQueries: true
Raster Type Infos:
Name: Raster Dataset
Description: Supports all ArcGIS Raster Datasets
Help:
Has Raster Attribute Table: false
Edit Fields Info: null
Ownership Based AccessControl For Rasters: null
Child Resources:
Info
Histograms
Statistics
Key Properties
Legend
Raster Function Infos
Supported Operations:
Export Image
Query
Identify
Compute Histograms
Compute Statistics Histograms
Get Samples
Compute Class Statistics
Query GPS Info
Find Images
Image to Map
Map to Image
Measure from Image
Image to Map Multiray
Query Boundary
Compute Pixel Location
Compute Angles
Validate
Project