View In:
ArcGIS JavaScript
ArcGIS Online Map Viewer
ArcGIS Earth
Service Description: Servizio delle classi di pendenza del territorio piemontese calcolate a partire dal DTM ICE a 5m
Name: topografia_dati_di_base/slope_piemonte
Description: Servizio delle classi di pendenza del territorio piemontese calcolate a partire dal DTM ICE a 5m.
Single Fused Map Cache: false
Extent:
XMin: 730905.4946999997
YMin: 5471806.943000004
XMax: 1026830.4946999997
YMax: 5855671.943000004
Spatial Reference: 102100
(3857)
LatestVCSWkid(0)
Initial Extent:
XMin: 730905.4946999997
YMin: 5471806.943000004
XMax: 1026830.4946999997
YMax: 5855671.943000004
Spatial Reference: 102100
(3857)
LatestVCSWkid(0)
Full Extent:
XMin: 730905.4946999997
YMin: 5471806.943000004
XMax: 1026830.4946999997
YMax: 5855671.943000004
Spatial Reference: 102100
(3857)
LatestVCSWkid(0)
Pixel Size X: 5.0
Pixel Size Y: 5.0
Band Count: 1
Pixel Type: U8
RasterFunction Infos: {"rasterFunctionInfos": [
{
"name": "slope_classi",
"description": "Tematizzazione della pendenza per classi",
"help": ""
},
{
"name": "None",
"description": "Make a Raster or Raster Dataset into a Function Raster Dataset.",
"help": ""
}
]}
Mensuration Capabilities: None
Inspection Capabilities:
Has Histograms: true
Has Colormap: false
Has Multi Dimensions : false
Rendering Rule:
Min Scale: 0
Max Scale: 0
Resampling: false
Copyright Text: Arpa Piemonte
Service Data Type: esriImageServiceDataTypeThematic
Min Values: -128
Max Values: 127
Mean Values: 2.2023217482417228
Standard Deviation Values: 1.3220444177701092
Object ID Field: OBJECTID
Fields:
-
OBJECTID
(
type: esriFieldTypeOID, alias: OBJECTID
)
-
Shape
(
type: esriFieldTypeGeometry, alias: Shape
)
-
Name
(
type: esriFieldTypeString, alias: Name, length: 200
)
-
MinPS
(
type: esriFieldTypeDouble, alias: MinPS
)
-
MaxPS
(
type: esriFieldTypeDouble, alias: MaxPS
)
-
LowPS
(
type: esriFieldTypeDouble, alias: LowPS
)
-
HighPS
(
type: esriFieldTypeDouble, alias: HighPS
)
-
Category
(
type: esriFieldTypeInteger, alias: Category
, Coded Values:
[0: Unknown]
, [1: Primary]
, [2: Overview]
, ...6 more...
)
-
Tag
(
type: esriFieldTypeString, alias: Tag, length: 100
)
-
GroupName
(
type: esriFieldTypeString, alias: GroupName, length: 100
)
-
ProductName
(
type: esriFieldTypeString, alias: ProductName, length: 100
)
-
CenterX
(
type: esriFieldTypeDouble, alias: CenterX
)
-
CenterY
(
type: esriFieldTypeDouble, alias: CenterY
)
-
ZOrder
(
type: esriFieldTypeInteger, alias: ZOrder
)
-
Shape_Length
(
type: esriFieldTypeDouble, alias: Shape_Length
)
-
Shape_Area
(
type: esriFieldTypeDouble, alias: Shape_Area
)
Default Mosaic Method: Northwest
Allowed Mosaic Methods: NorthWest,Center,LockRaster,ByAttribute,Nadir,Viewpoint,Seamline,None
SortField:
SortValue: null
Mosaic Operator: First
Default Compression Quality: 75
Default Resampling Method: Nearest
Max Record Count: 1000
Max Image Height: 4100
Max Image Width: 15000
Max Download Image Count: 0
Max Mosaic Image Count: 20
Allow Raster Function: true
Allow Copy: true
Allow Analysis: true
Allow Compute TiePoints: false
Supports Statistics: true
Supports Advanced Queries: true
Use StandardizedQueries: true
Raster Type Infos:
Name: Raster Dataset
Description: Supports all ArcGIS Raster Datasets
Help:
Has Raster Attribute Table: false
Edit Fields Info: null
Ownership Based AccessControl For Rasters: null
Child Resources:
Info
Histograms
Statistics
Key Properties
Legend
Raster Function Infos
Supported Operations:
Export Image
Query
Identify
Compute Histograms
Compute Statistics Histograms
Get Samples
Compute Class Statistics
Query GPS Info
Find Images
Image to Map
Map to Image
Measure from Image
Image to Map Multiray
Query Boundary
Compute Pixel Location
Compute Angles
Validate
Project