View In:
ArcGIS JavaScript
ArcGIS Online Map Viewer
ArcGIS Earth
Service Description: Valutazione speditiva dell’esposizione ai fenomeni di versate per strutture e infrastrutture tramite l’applicazione dell’Indice di Connettività a scala regionale.
Al fine di ottenere una prima e speditiva valutazione
dell’esposizione all’azione dei fenomeni di versante di strutture e
infrastrutture a scala regionale, la Struttura Semplice Geologia e Nivologia
del Dipartimento Rischi Naturali e Ambientali di Arpa Piemonte ha realizzato
una mappa di grado di connessione morfologica tra i diversi settori dei versanti
alpini e i target antropici di principale interesse strategico e di salvaguardia.
L'analisi della connettività è stata eseguita per
caratterizzare e identificare le potenziali aree sorgenti di materiale
mobilizzabile ad opera di fenomeni di versante, concentrandosi sulla loro effettiva
connessione morfologica e topografica con viabilità principale e aree
densamente urbanizzate.
Name: rischi_naturali/connettivita
Description:
Single Fused Map Cache: false
Extent:
XMin: 313291.73230172973
YMin: 4879333.943018571
XMax: 516961.73230172973
YMax: 5145773.943018571
Spatial Reference: 32632
(32632)
LatestVCSWkid(0)
Initial Extent:
XMin: 313291.73230172973
YMin: 4879333.943018571
XMax: 516961.73230172973
YMax: 5145773.943018571
Spatial Reference: 32632
(32632)
LatestVCSWkid(0)
Full Extent:
XMin: 313291.73230172973
YMin: 4879333.943018571
XMax: 516961.73230172973
YMax: 5145773.943018571
Spatial Reference: 32632
(32632)
LatestVCSWkid(0)
Pixel Size X: 5.0
Pixel Size Y: 5.0
Band Count: 1
Pixel Type: U8
RasterFunction Infos: {"rasterFunctionInfos": [
{
"name": "connettivita_rft_v202602023",
"description": "A raster function template for connettivita (con edificato)",
"help": ""
},
{
"name": "None",
"description": "Make a Raster or Raster Dataset into a Function Raster Dataset.",
"help": ""
}
]}
Mensuration Capabilities: Basic
Inspection Capabilities:
Has Histograms: true
Has Colormap: false
Has Multi Dimensions : false
Rendering Rule:
Min Scale: 0
Max Scale: 0
Copyright Text: Arpa Piemonte
Service Data Type: esriImageServiceDataTypeThematic
Min Values: -127.2509765625
Max Values: 254.7509765625
Mean Values: 14.588914339347877
Standard Deviation Values: 35.26283979908998
Object ID Field: OBJECTID
Fields:
-
OBJECTID
(
type: esriFieldTypeOID, alias: OBJECTID
)
-
Shape
(
type: esriFieldTypeGeometry, alias: Shape
)
-
Name
(
type: esriFieldTypeString, alias: Name, length: 200
)
-
MinPS
(
type: esriFieldTypeDouble, alias: MinPS
)
-
MaxPS
(
type: esriFieldTypeDouble, alias: MaxPS
)
-
LowPS
(
type: esriFieldTypeDouble, alias: LowPS
)
-
HighPS
(
type: esriFieldTypeDouble, alias: HighPS
)
-
Category
(
type: esriFieldTypeInteger, alias: Category
, Coded Values:
[0: Unknown]
, [1: Primary]
, [2: Overview]
, ...6 more...
)
-
Tag
(
type: esriFieldTypeString, alias: Tag, length: 100
)
-
GroupName
(
type: esriFieldTypeString, alias: GroupName, length: 100
)
-
ProductName
(
type: esriFieldTypeString, alias: ProductName, length: 100
)
-
CenterX
(
type: esriFieldTypeDouble, alias: CenterX
)
-
CenterY
(
type: esriFieldTypeDouble, alias: CenterY
)
-
ZOrder
(
type: esriFieldTypeInteger, alias: ZOrder
)
-
Shape_Length
(
type: esriFieldTypeDouble, alias: Shape_Length
)
-
Shape_Area
(
type: esriFieldTypeDouble, alias: Shape_Area
)
Default Mosaic Method: Northwest
Allowed Mosaic Methods: NorthWest,Center,LockRaster,ByAttribute,Nadir,Viewpoint,Seamline,None
SortField:
SortValue: null
Mosaic Operator: First
Default Compression Quality: 75
Default Resampling Method: Nearest
Max Record Count: 1000
Max Image Height: 4100
Max Image Width: 15000
Max Download Image Count: 20
Max Mosaic Image Count: 20
Allow Raster Function: true
Allow Copy: true
Allow Analysis: true
Allow Compute TiePoints: false
Supports Statistics: true
Supports Advanced Queries: true
Use StandardizedQueries: true
Raster Type Infos:
Name: Raster Dataset
Description: Supports all ArcGIS Raster Datasets
Help:
Has Raster Attribute Table: false
Edit Fields Info: null
Ownership Based AccessControl For Rasters: null
Child Resources:
Info
Histograms
Statistics
Key Properties
Legend
Raster Function Infos
Supported Operations:
Export Image
Query
Identify
Measure
Compute Histograms
Compute Statistics Histograms
Get Samples
Compute Class Statistics
Query GPS Info
Find Images
Image to Map
Map to Image
Measure from Image
Image to Map Multiray
Query Boundary
Compute Pixel Location
Compute Angles
Validate
Project